Workbook
Name UNIDADE: MP!$I$3:$I$13

Sheet MENU

Sheet MP
A1: MATERIA PRIMA
A2: Código | B2: Material | C2: Qtd por embalagem | D2: Unidade de Medida | E2: Preço Embalgem | F2: Preço por Unidade | G2: Unidade
A3: 1 | B3: GAZE | C3: 500 | D3: UNID | E3: 33.5 | F3: =IF(E3="","",E3/C3) -> 0.067 | G3: =D3 -> UNID | H3: 1 | I3: CÁPSULAS
A4: 2 | B4: ALGODÃO | C4: 500 | D4: GRAMAS | E4: 16.5 | F4: =IF(E4="","",E4/C4) -> 0.033 | G4: =D4 -> GRAMAS | H4: 2 | I4: CM
A5: 3 | B5: SORO FISIOLOGICO | C5: 500 | D5: ML | E5: 9.9 | F5: =IF(E5="","",E5/C5) -> 0.0198 | G5: =D5 -> ML | H5: 3 | I5: FRASCO
A6: 4 | B6: GEL ULTRASSOM | C6: 5000 | D6: GRAMAS | E6: 24 | F6: =IF(E6="","",E6/C6) -> 0.0048 | G6: =D6 -> GRAMAS | H6: 4 | I6: GRAMAS
A7: 5 | B7: CLOREXIDINA | C7: 2000 | D7: ML | E7: 75 | F7: =IF(E7="","",E7/C7) -> 0.0375 | G7: =D7 -> ML | H7: 5 | I7: KG
A8: 6 | B8: AGUA MICELAR | C8: 200 | D8: ML | E8: 11.9 | F8: =IF(E8="","",E8/C8) -> 0.0595 | G8: =D8 -> ML | H8: 6 | I8: LITRO
A9: 7 | B9: TOUCA | C9: 100 | D9: UNID | E9: 7.5 | F9: =IF(E9="","",E9/C9) -> 0.075 | G9: =D9 -> UNID | H9: 7 | I9: MG
A10: 8 | B10: LUVA | C10: 100 | D10: UNID | E10: 24 | F10: =IF(E10="","",E10/C10) -> 0.24 | G10: =D10 -> UNID
A11: 9 | B11: MÁSCARA | C11: 50 | D11: UNID | E11: 10 | F11: =IF(E11="","",E11/C11) -> 0.2 | G11: =D11 -> UNID | H11: 8 | I11: ML
A12: 10 | B12: MASCARA DESIDRATADA | C12: 50 | D12: UNID | E12: 36.3 | F12: =IF(E12="","",E12/C12) -> 0.726 | G12: =D12 -> UNID | H12: 9 | I12: PCTE
A13: 11 | B13: INDUMAX PLASMA REVERSE CB | C13: 12 | D13: UNID | E13: 112.42 | F13: =IF(E13="","",E13/C13) -> 9.3683333 | G13: =D13 -> UNID | H13: 10 | I13: UNID
A14: 12 | B14: ALCOOL 70% | C14: 1000 | D14: LITRO | E14: 6.5 | F14: =IF(E14="","",E14/C14) -> 0.0065 | G14: =D14 -> LITRO
A15: 13 | B15: AGULHA PARA MICROAGULHAMENTO DERMAPEN | C15: 10 | D15: UNID | E15: 269.9 | F15: =IF(E15="","",E15/C15) -> 26.99 | G15: =D15 -> UNID
A16: 14 | B16: AGULHA PARA MISTURA DE FARMACO | C16: 100 | D16: UNID | E16: 23.6 | F16: =IF(E16="","",E16/C16) -> 0.236 | G16: =D16 -> UNID
A17: 15 | B17: AGULHA PARA INTRADERMOTERAPIA BD | C17: 100 | D17: UNID | E17: 17.73 | F17: =IF(E17="","",E17/C17) -> 0.1773 | G17: =D17 -> UNID
A18: 16 | B18: AGULHA PARA ACUPUNTURA | C18: 1000 | D18: UNID | E18: 135 | F18: =IF(E18="","",E18/C18) -> 0.135 | G18: =D18 -> UNID
A19: 17 | B19: SERINGA DE 1 ML | C19: 100 | D19: UNID | E19: 26.5 | F19: =IF(E19="","",E19/C19) -> 0.265 | G19: =D19 -> UNID
A20: 18 | B20: SERINGA DE 3 ML | C20: 100 | D20: UNID | E20: 18.72 | F20: =IF(E20="","",E20/C20) -> 0.1872 | G20: =D20 -> UNID
A21: 19 | B21: SERINGA DE 10 ML | C21: 250 | D21: UNID | E21: 95 | F21: =IF(E21="","",E21/C21) -> 0.38 | G21: =D21 -> UNID
A22: 20 | B22: PAPEL TOALHA | C22: 1000 | D22: PCTE | E22: 24 | F22: =IF(E22="","",E22/C22) -> 0.024 | G22: =D22 -> PCTE
A23: 21 | B23: PAPEL LENÇOL | C23: 5000 | D23: CM | E23: 15 | F23: =IF(E23="","",E23/C23) -> 0.003 | G23: =D23 -> CM
A24: 22 | B24: CREME DE MASSAGEM TRADICIONAL 950G FB | C24: 950 | D24: GRAMAS | E24: 33.34 | F24: =IF(E24="","",E24/C24) -> 0.035094737 | G24: =D24 -> GRAMAS
A25: 23 | B25: CREME DE MASSAGEM DETOX GOMAGEM FB | C25: 500 | D25: GRAMAS | E25: 30.4 | F25: =IF(E25="","",E25/C25) -> 0.0608 | G25: =D25 -> GRAMAS
... A78: 76 | B78: AGULHA DE ELETROLIPOLISE | C78: 100 | D78: UNID | E78: 192 | F78: =IF(E78="","",E78/C78) -> 1.92 | G78: =D78 -> UNID
A79: 77 | F79: =IF(E79="","",E79/C79) | G79: =D79 -> 0
A80: 78 | B80: PAPEL INSUFILME | C80: 3800 | D80: CM | E80: 11.99 | F80: =IF(E80="","",E80/C80) -> 0.0031552632 | G80: =D80 -> CM
A81: 79 | B81: MED SONDA | C81: 1 | D81: UNID | E81: 6.56 | F81: =IF(E81="","",E81/C81) -> 6.56 | G81: =D81 -> UNID
A82: 80 | B82: ANPOLA DE VITAMINA C | C82: 20 | D82: UNID | E82: 142.43 | F82: =IF(E82="","",E82/C82) -> 7.1215 | G82: =D82 -> UNID
A83: 81 | B83: BIO- EXELLENCE C | C83: 15 | D83: GRAMAS | E83: 84 | F83: =IF(E83="","",E83/C83) -> 5.6 | G83: =D83 -> GRAMAS
A84: 82 | B84: BIO- PEELING QUIMICO ACIDO GLICOLICO | C84: 60 | D84: ML | E84: 126 | F84: =IF(E84="","",E84/C84) -> 2.1 | G84: =D84 -> ML
A85: 83 | B85: AGULHA HIPODERMICA 07X25 | C85: 100 | D85: UNID | E85: 45 | F85: =IF(E85="","",E85/C85) -> 0.45 | G85: =D85 -> UNID
A86: 84 | B86: SABONETE DE VITAMINA C | C86: 120 | D86: ML | E86: 53 | F86: =IF(E86="","",E86/C86) -> 0.44166667 | G86: =D86 -> ML
A87: 85 | B87: BIO - CLEAN SYSTEM CREME EMOLIENTE | C87: 60 | D87: GRAMAS | E87: 57 | F87: =IF(E87="","",E87/C87) -> 0.95 | G87: =D87 -> GRAMAS
A88: 86 | B88: BIO - CLEAN SYSTEM GEL ESFOLIANTE | C88: 150 | D88: GRAMAS | E88: 82 | F88: =IF(E88="","",E88/C88) -> 0.54666667 | G88: =D88 -> GRAMAS
A89: 87 | B89: BIO - CLEAN SYSTEM LOÇÃO TONICA | C89: 350 | D89: ML | E89: 63 | F89: =IF(E89="","",E89/C89) -> 0.18 | G89: =D89 -> ML
A90: 88 | B90: BIO - CLEAN SYSTEM MASACRA DE BETA GLUCAN | C90: 250 | D90: GRAMAS | E90: 70 | F90: =IF(E90="","",E90/C90) -> 0.28 | G90: =D90 -> GRAMAS
A91: 89 | B91: BIO - CLEAN SYSTEM PÓS EXTRAÇÃO | C91: 60 | D91: ML | E91: 80 | F91: =IF(E91="","",E91/C91) -> 1.3333333 | G91: =D91 -> ML
A92: 90 | B92: BIO - CLEAN SYSTEM TRIETA CONCENTRADA | C92: 500 | D92: ML | E92: 45 | F92: =IF(E92="","",E92/C92) -> 0.09 | G92: =D92 -> ML
...

Sheet PROD. REVENDA
A1: REVENDA DE PRODUTOS
A2: Código | B2: Material | C2: UND | D2: Preço Custo | E2: Preço de Venda | F2: % MC
A3: 1 | B3: CELLU SHOK | C3: CM | D3: 55 | E3: 75 | F3: =IF(E3="","",((E3-D3)/E3)) -> 0.26666667
A4: 2 | B4: BODY REDUX CREME | D4: 55 | E4: 80 | F4: =IF(E4="","",((E4-D4)/E4)) -> 0.3125
A5: 3 | B5: BLUR HD COM COR | D5: 92 | E5: 130 | F5: =IF(E5="","",((E5-D5)/E5)) -> 0.29230769
A6: 4 | B6: MELANOSE PREMIUM COSMOBEAUTY | D6: 155.94 | E6: 200 | F6: =IF(E6="","",((E6-D6)/E6)) -> 0.2203
A7: 5 | B7: PROTETOR VULCANICE COSMOBEAUTY | D7: 51.54 | E7: 81 | F7: =IF(E7="","",((E7-D7)/E7)) -> 0.3637037
A8: 6 | B8: SABONETE MOUSSE PLASTIC CLAREANCE COSMOBEAUTY | D8: 52 | E8: 80 | F8: =IF(E8="","",((E8-D8)/E8)) -> 0.35
A9: 7 | B9: SABONTE MOUSSE ANTI-OX COSMOBEAUTY | D9: 52 | E9: 80 | F9: =IF(E9="","",((E9-D9)/E9)) -> 0.35
A10: 8 | B10: ESPUMA DE LIMPEZA VULCANICE | D10: 52 | E10: 80 | F10: =IF(E10="","",((E10-D10)/E10)) -> 0.35
A11: 9 | B11: LOÇÃO TÔNICA BIO-C BIOAGE | E11: 70 | F11: =IF(E11="","",((E11-D11)/E11)) -> 1
A12: 10 | B12: REST-DERM COSMOBEAUTY | D12: 91.74 | E12: 130 | F12: =IF(E12="","",((E12-D12)/E12)) -> 0.29430769
A13: 11 | B13: DMAE CREME ANTI-RUGAS BOTHANICA | D13: 80 | E13: 120 | F13: =IF(E13="","",((E13-D13)/E13)) -> 0.33333333
A14: 12 | F14: =IF(E14="","",((E14-D14)/E14))
A15: 13 | F15: =IF(E15="","",((E15-D15)/E15))
A16: 14 | F16: =IF(E16="","",((E16-D16)/E16))
A17: 15 | F17: =IF(E17="","",((E17-D17)/E17))
A18: 16 | F18: =IF(E18="","",((E18-D18)/E18))
A19: 17 | F19: =IF(E19="","",((E19-D19)/E19))
A20: 18 | F20: =IF(E20="","",((E20-D20)/E20))
A21: 19 | F21: =IF(E21="","",((E21-D21)/E21))
A22: 20 | F22: =IF(E22="","",((E22-D22)/E22))
A23: 21 | F23: =IF(E23="","",((E23-D23)/E23))
A24: 22 | F24: =IF(E24="","",((E24-D24)/E24))
A25: 23 | F25: =IF(E25="","",((E25-D25)/E25))
... A283: 281 | F283: =IF(E283="","",((E283-D283)/E283))

Sheet EQUIPAMENTOS
A2: ATIVOS
A6: ESTIMATIVA DOS CUSTOS COM DEPRECIAÇÃO
C8: TOTAL DEPRECIAÇÃO | D8: =SUBTOTAL(9,D11:D59) -> 177363.55 | F8: =SUBTOTAL(9,F11:F59) -> 35472.71 | G8: =SUBTOTAL(9,G11:G59) -> 0.27992985 | H8: =SUBTOTAL(9,H11:H59) -> 2956.0592
A10: ESTIMATIVA DOS CUSTOS COM DEPRECIAÇÃO | B10: 1 | C10: VIBRIA ULTRASSOM | D10: 11390 | E10: 5 | F10: =IF(D10="","",D10/E10) -> 2278 | G10: Valor p/ Minuto | H10: MÊS | I10: =(22*8)*60 -> 10560
B11: 2 | C11: ETHERNIA COLD FREQUENCIA CRIOTERAPIA | D11: 25900 | E11: 5 | F11: =IF(D11="","",D11/E11) -> 5180 | G11: =IF(F11="","",((F11/12)/$I$10)) -> 0.040877525 | H11: =IF(F11="","",F11/12) -> 431.66667
B12: 3 | C12: NARNIAH | D12: 24900 | E12: 5 | F12: =IF(D12="","",D12/E12) -> 4980 | G12: =IF(F12="","",((F12/12)/$I$10)) -> 0.039299242 | H12: =IF(F12="","",F12/12) -> 415
B13: 4 | C13: STIMULUS | D13: 3490 | E13: 5 | F13: =IF(D13="","",D13/E13) -> 698 | G13: =IF(F13="","",((F13/12)/$I$10)) -> 0.0055082071 | H13: =IF(F13="","",F13/12) -> 58.166667
B14: 5 | C14: ULTRAFOCUS ULTRASSOM FOCALIZADO | D14: 9790 | E14: 5 | F14: =IF(D14="","",D14/E14) -> 1958 | G14: =IF(F14="","",((F14/12)/$I$10)) -> 0.015451389 | H14: =IF(F14="","",F14/12) -> 163.16667
B15: 6 | C15: PLURIA HTM | D15: 6890 | E15: 5 | F15: =IF(D15="","",D15/E15) -> 1378 | G15: =IF(F15="","",((F15/12)/$I$10)) -> 0.010874369 | H15: =IF(F15="","",F15/12) -> 114.83333
B16: 7 | C16: CILINDRO DIOXIDO | D16: 1199 | E16: 5 | F16: =IF(D16="","",D16/E16) -> 239.8 | G16: =IF(F16="","",((F16/12)/$I$10)) -> 0.0018923611 | H16: =IF(F16="","",F16/12) -> 19.983333
B17: 8 | C17: DERMO CRYSTAL | D17: 6290 | E17: 5 | F17: =IF(D17="","",D17/E17) -> 1258 | G17: =IF(F17="","",((F17/12)/$I$10)) -> 0.009927399 | H17: =IF(F17="","",F17/12) -> 104.83333
B18: 9 | C18: VENUS DELTA MMO | D18: 8900 | E18: 5 | F18: =IF(D18="","",D18/E18) -> 1780 | G18: =IF(F18="","",((F18/12)/$I$10)) -> 0.014046717 | H18: =IF(F18="","",F18/12) -> 148.33333
B19: 10 | C19: NEW SKIN | D19: 4650 | E19: 5 | F19: =IF(D19="","",D19/E19) -> 930 | G19: =IF(F19="","",((F19/12)/$I$10)) -> 0.0073390152 | H19: =IF(F19="","",F19/12) -> 77.5
B20: 11 | C20: CRIODERMIS MEDICAL | D20: 49900 | E20: 5 | F20: =IF(D20="","",D20/E20) -> 9980 | G20: =IF(F20="","",((F20/12)/$I$10)) -> 0.078756313 | H20: =IF(F20="","",F20/12) -> 831.66667
B21: 12 | C21: AUTOCLAVE DIGITAL | D21: 2789 | E21: 5 | F21: =IF(D21="","",D21/E21) -> 557.8 | G21: =IF(F21="","",((F21/12)/$I$10)) -> 0.0044018308 | H21: =IF(F21="","",F21/12) -> 46.483333
B22: 13 | C22: BEAUTY STEAM 120V - VAPOR DE OZÔNIO | D22: 1390 | E22: 5 | F22: =IF(D22="","",D22/E22) -> 278 | G22: =IF(F22="","",((F22/12)/$I$10)) -> 0.0021938131 | H22: =IF(F22="","",F22/12) -> 23.166667
... B46: 37 | C46: VIBRIA TERAPIA COMBINADA | D46: 11390 | E46: 5 | F46: =IF(D46="","",D46/E46) -> 2278 | G46: =IF(F46="","",((F46/12)/$I$10)) -> 0.017976641 | H46: =IF(F46="","",F46/12) -> 189.83333
B47: 37 | F47: =IF(D47="","",D47/E47) | G47: =IF(F47="","",((F47/12)/$I$10)) | H47: =IF(F47="","",F47/12)
B48: 38 | F48: =IF(D48="","",D48/E48) | G48: =IF(F48="","",((F48/12)/$I$10)) | H48: =IF(F48="","",F48/12)
B49: 39 | F49: =IF(D49="","",D49/E49) | G49: =IF(F49="","",((F49/12)/$I$10)) | H49: =IF(F49="","",F49/12)
B50: 40 | F50: =IF(D50="","",D50/E50) | G50: =IF(F50="","",((F50/12)/$I$10)) | H50: =IF(F50="","",F50/12)
B51: 41 | F51: =IF(D51="","",D51/E51) | G51: =IF(F51="","",((F51/12)/$I$10)) | H51: =IF(F51="","",F51/12)
B52: 42 | F52: =IF(D52="","",D52/E52) | G52: =IF(F52="","",((F52/12)/$I$10)) | H52: =IF(F52="","",F52/12)
B53: 43 | F53: =IF(D53="","",D53/E53) | G53: =IF(F53="","",((F53/12)/$I$10)) | H53: =IF(F53="","",F53/12)
B54: 44 | F54: =IF(D54="","",D54/E54) | G54: =IF(F54="","",((F54/12)/$I$10)) | H54: =IF(F54="","",F54/12)
B55: 45 | F55: =IF(D55="","",D55/E55) | G55: =IF(F55="","",((F55/12)/$I$10)) | H55: =IF(F55="","",F55/12)
B56: 46 | F56: =IF(D56="","",D56/E56) | G56: =IF(F56="","",((F56/12)/$I$10)) | H56: =IF(F56="","",F56/12)
B57: 47 | F57: =IF(D57="","",D57/E57) | G57: =IF(F57="","",((F57/12)/$I$10)) | H57: =IF(F57="","",F57/12)
B58: 48 | F58: =IF(D58="","",D58/E58) | G58: =IF(F58="","",((F58/12)/$I$10)) | H58: =IF(F58="","",F58/12)
B59: 49 | F59: =IF(D59="","",D59/E59) | G59: =IF(F59="","",((F59/12)/$I$10)) | H59: =IF(F59="","",F59/12)
B60: 50 | C60: EQUIPAMENTOS | D60: Valor Locação | E60: Tempo Locação (horas) | F60: Minutos | G60: Valor p/ MINUTO
A61: ESTIMATIVA DOS CUSTOS COM LOCAÇÃO | B61: 51 | C61: LASER LIGHT SHEER | D61: 1000 | E61: 12 | F61: =IF(E61="","",E61*60) -> 720 | G61: =IF(D61="","",D61/F61) -> 1.3888889
B62: 52 | F62: =IF(E62="","",E62*60) | G62: =IF(D62="","",D62/F62)
B63: 53 | F63: =IF(E63="","",E63*60) | G63: =IF(D63="","",D63/F63)
B64: 54 | F64: =IF(E64="","",E64*60) | G64: =IF(D64="","",D64/F64)
B65: 55 | F65: =IF(E65="","",E65*60) | G65: =IF(D65="","",D65/F65)
B66: 56 | F66: =IF(E66="","",E66*60) | G66: =IF(D66="","",D66/F66)
B67: 57 | F67: =IF(E67="","",E67*60) | G67: =IF(D67="","",D67/F67)
B68: 58 | F68: =IF(E68="","",E68*60) | G68: =IF(D68="","",D68/F68)
B69: 59 | F69: =IF(E69="","",E69*60) | G69: =IF(D69="","",D69/F69)
...

Sheet SERVIÇOS
A1: SERVIÇOS
A4: 11 | B4: LIMPEZA DE PELE | H4: CRIOLIPOLISE DE PLACAS
B5: Cód | C5: PRODUTO | D5: UND | E5: Quant. | F5: Valor | H5: Cód | I5: PRODUTO | J5: UND | K5: Quant. | L5: Valor
B6: 9 | C6: =IF(B6="","",VLOOKUP(B6,MP!$A$3:$G$801,2,FALSE)) -> MÁSCARA | D6: =IF(B6="","",VLOOKUP(B6,MP!$A$3:$G$801,7,FALSE)) -> UNID | E6: 1 | F6: =IF(B6="","",VLOOKUP(B6,MP!$A$3:$G$801,6,FALSE)*E6) -> 0.2 | H6: 9 | I6: =IF(H6="","",VLOOKUP(H6,MP!$A$3:$G$801,2,FALSE)) -> MÁSCARA | J6: =IF(H6="","",VLOOKUP(H6,MP!$A$3:$G$801,7,FALSE)) -> UNID | K6: 1 | L6: =IF(H6="","",VLOOKUP(H6,MP!$A$3:$G$801,6,FALSE)*K6) -> 0.2
B7: 12 | C7: =IF(B7="","",VLOOKUP(B7,MP!$A$3:$G$801,2,FALSE)) -> ALCOOL 70% | D7: =IF(B7="","",VLOOKUP(B7,MP!$A$3:$G$801,7,FALSE)) -> LITRO | E7: 3 | F7: =IF(B7="","",VLOOKUP(B7,MP!$A$3:$G$801,6,FALSE)*E7) -> 0.0195 | H7: 12 | I7: =IF(H7="","",VLOOKUP(H7,MP!$A$3:$G$801,2,FALSE)) -> ALCOOL 70% | J7: =IF(H7="","",VLOOKUP(H7,MP!$A$3:$G$801,7,FALSE)) -> LITRO | K7: 2 | L7: =IF(H7="","",VLOOKUP(H7,MP!$A$3:$G$801,6,FALSE)*K7) -> 0.013
B8: 1 | C8: =IF(B8="","",VLOOKUP(B8,MP!$A$3:$G$801,2,FALSE)) -> GAZE | D8: =IF(B8="","",VLOOKUP(B8,MP!$A$3:$G$801,7,FALSE)) -> UNID | E8: 10 | F8: =IF(B8="","",VLOOKUP(B8,MP!$A$3:$G$801,6,FALSE)*E8) -> 0.67 | H8: 5 | I8: =IF(H8="","",VLOOKUP(H8,MP!$A$3:$G$801,2,FALSE)) -> CLOREXIDINA | J8: =IF(H8="","",VLOOKUP(H8,MP!$A$3:$G$801,7,FALSE)) -> ML | K8: 31 | L8: =IF(H8="","",VLOOKUP(H8,MP!$A$3:$G$801,6,FALSE)*K8) -> 1.1625
B9: 20 | C9: =IF(B9="","",VLOOKUP(B9,MP!$A$3:$G$801,2,FALSE)) -> PAPEL TOALHA | D9: =IF(B9="","",VLOOKUP(B9,MP!$A$3:$G$801,7,FALSE)) -> PCTE | E9: 10 | F9: =IF(B9="","",VLOOKUP(B9,MP!$A$3:$G$801,6,FALSE)*E9) -> 0.24 | H9: 20 | I9: =IF(H9="","",VLOOKUP(H9,MP!$A$3:$G$801,2,FALSE)) -> PAPEL TOALHA | J9: =IF(H9="","",VLOOKUP(H9,MP!$A$3:$G$801,7,FALSE)) -> PCTE | K9: 25 | L9: =IF(H9="","",VLOOKUP(H9,MP!$A$3:$G$801,6,FALSE)*K9) -> 0.6
B10: 21 | C10: =IF(B10="","",VLOOKUP(B10,MP!$A$3:$G$801,2,FALSE)) -> PAPEL LENÇOL | D10: =IF(B10="","",VLOOKUP(B10,MP!$A$3:$G$801,7,FALSE)) -> CM | E10: 200 | F10: =IF(B10="","",VLOOKUP(B10,MP!$A$3:$G$801,6,FALSE)*E10) -> 0.6 | H10: 21 | I10: =IF(H10="","",VLOOKUP(H10,MP!$A$3:$G$801,2,FALSE)) -> PAPEL LENÇOL | J10: =IF(H10="","",VLOOKUP(H10,MP!$A$3:$G$801,7,FALSE)) -> CM | K10: 200 | L10: =IF(H10="","",VLOOKUP(H10,MP!$A$3:$G$801,6,FALSE)*K10) -> 0.6
B11: 8 | C11: =IF(B11="","",VLOOKUP(B11,MP!$A$3:$G$801,2,FALSE)) -> LUVA | D11: =IF(B11="","",VLOOKUP(B11,MP!$A$3:$G$801,7,FALSE)) -> UNID | E11: 2 | F11: =IF(B11="","",VLOOKUP(B11,MP!$A$3:$G$801,6,FALSE)*E11) -> 0.48 | H11: 8 | I11: =IF(H11="","",VLOOKUP(H11,MP!$A$3:$G$801,2,FALSE)) -> LUVA | J11: =IF(H11="","",VLOOKUP(H11,MP!$A$3:$G$801,7,FALSE)) -> UNID | K11: 4 | L11: =IF(H11="","",VLOOKUP(H11,MP!$A$3:$G$801,6,FALSE)*K11) -> 0.96
B12: 5 | C12: =IF(B12="","",VLOOKUP(B12,MP!$A$3:$G$801,2,FALSE)) -> CLOREXIDINA | D12: =IF(B12="","",VLOOKUP(B12,MP!$A$3:$G$801,7,FALSE)) -> ML | E12: 5 | F12: =IF(B12="","",VLOOKUP(B12,MP!$A$3:$G$801,6,FALSE)*E12) -> 0.1875 | H12: 26 | I12: =IF(H12="","",VLOOKUP(H12,MP!$A$3:$G$801,2,FALSE)) -> CREME MASSAGEM TERMOLIPO FB | J12: =IF(H12="","",VLOOKUP(H12,MP!$A$3:$G$801,7,FALSE)) -> GRAMAS | K12: 8 | L12: =IF(H12="","",VLOOKUP(H12,MP!$A$3:$G$801,6,FALSE)*K12) -> 0.33692632
F13: =IF(B13="","",VLOOKUP(B13,MP!$A$3:$G$801,6,FALSE)*E13) | H13: 64 | I13: =IF(H13="","",VLOOKUP(H13,MP!$A$3:$G$801,2,FALSE)) -> MENBRANA ANTICOAGULANTE CRIOLIPOLISE | J13: =IF(H13="","",VLOOKUP(H13,MP!$A$3:$G$801,7,FALSE)) -> UNID | K13: 2 | L13: =IF(H13="","",VLOOKUP(H13,MP!$A$3:$G$801,6,FALSE)*K13) -> 40
B14: 87 | C14: =IF(B14="","",VLOOKUP(B14,MP!$A$3:$G$801,2,FALSE)) -> BIO - CLEAN SYSTEM LOÇÃO TONICA | D14: =IF(B14="","",VLOOKUP(B14,MP!$A$3:$G$801,7,FALSE)) -> ML | E14: 4 | F14: =IF(B14="","",VLOOKUP(B14,MP!$A$3:$G$801,6,FALSE)*E14) -> 0.72 | H14: 78 | I14: =IF(H14="","",VLOOKUP(H14,MP!$A$3:$G$801,2,FALSE)) -> PAPEL INSUFILME | J14: =IF(H14="","",VLOOKUP(H14,MP!$A$3:$G$801,7,FALSE)) -> CM | K14: 200 | L14: =IF(H14="","",VLOOKUP(H14,MP!$A$3:$G$801,6,FALSE)*K14) -> 0.63105263
B15: 88 | C15: =IF(B15="","",VLOOKUP(B15,MP!$A$3:$G$801,2,FALSE)) -> BIO - CLEAN SYSTEM MASACRA DE BETA GLUCAN | D15: =IF(B15="","",VLOOKUP(B15,MP!$A$3:$G$801,7,FALSE)) -> GRAMAS | E15: 6 | F15: =IF(B15="","",VLOOKUP(B15,MP!$A$3:$G$801,6,FALSE)*E15) -> 1.68 | H15: 28 | I15: =IF(H15="","",VLOOKUP(H15,MP!$A$3:$G$801,2,FALSE)) -> GEL REDUTOR FB | J15: =IF(H15="","",VLOOKUP(H15,MP!$A$3:$G$801,7,FALSE)) -> GRAMAS | K15: 5 | L15: =IF(H15="","",VLOOKUP(H15,MP!$A$3:$G$801,6,FALSE)*K15) -> 0.2208
B16: 89 | C16: =IF(B16="","",VLOOKUP(B16,MP!$A$3:$G$801,2,FALSE)) -> BIO - CLEAN SYSTEM PÓS EXTRAÇÃO | D16: =IF(B16="","",VLOOKUP(B16,MP!$A$3:$G$801,7,FALSE)) -> ML | E16: 1 | F16: =IF(B16="","",VLOOKUP(B16,MP!$A$3:$G$801,6,FALSE)*E16) -> 1.3333333 | H16: 24 | I16: =IF(H16="","",VLOOKUP(H16,MP!$A$3:$G$801,2,FALSE)) -> GEL MIX DE PIMENTA 500G FB | J16: =IF(H16="","",VLOOKUP(H16,MP!$A$3:$G$801,7,FALSE)) -> GRAMAS | K16: 6 | L16: =IF(H16="","",VLOOKUP(H16,MP!$A$3:$G$801,6,FALSE)*K16) -> 0.39876
B17: 90 | C17: =IF(B17="","",VLOOKUP(B17,MP!$A$3:$G$801,2,FALSE)) -> BIO - CLEAN SYSTEM TRIETA CONCENTRADA | D17: =IF(B17="","",VLOOKUP(B17,MP!$A$3:$G$801,7,FALSE)) -> ML | E17: 1 | F17: =IF(B17="","",VLOOKUP(B17,MP!$A$3:$G$801,6,FALSE)*E17) -> 0.09 | H17: 27 | I17: =IF(H17="","",VLOOKUP(H17,MP!$A$3:$G$801,2,FALSE)) -> FLUIDO TERMOLIPO FB | J17: =IF(H17="","",VLOOKUP(H17,MP!$A$3:$G$801,7,FALSE)) -> ML | K17: 1 | L17: =IF(H17="","",VLOOKUP(H17,MP!$A$3:$G$801,6,FALSE)*K17) -> 0.11975
B18: 86 | C18: =IF(B18="","",VLOOKUP(B18,MP!$A$3:$G$801,2,FALSE)) -> BIO - CLEAN SYSTEM GEL ESFOLIANTE | D18: =IF(B18="","",VLOOKUP(B18,MP!$A$3:$G$801,7,FALSE)) -> GRAMAS | E18: 3 | F18: =IF(B18="","",VLOOKUP(B18,MP!$A$3:$G$801,6,FALSE)*E18) -> 1.64 | I18: =IF(H18="","",VLOOKUP(H18,MP!$A$3:$G$801,2,FALSE)) | J18: =IF(H18="","",VLOOKUP(H18,MP!$A$3:$G$801,7,FALSE)) | L18: =IF(H18="","",VLOOKUP(H18,MP!$A$3:$G$801,6,FALSE)*K18)
B19: 47 | C19: =IF(B19="","",VLOOKUP(B19,MP!$A$3:$G$801,2,FALSE)) -> BIO - ACNE SOLUTION FLUIDO SECATIVO TONALIZANTE FPS30 TRANSLUCIDO | D19: =IF(B19="","",VLOOKUP(B19,MP!$A$3:$G$801,7,FALSE)) -> ML | E19: 1 | F19: =IF(B19="","",VLOOKUP(B19,MP!$A$3:$G$801,6,FALSE)*E19) -> 2.3333333 | I19: =IF(H19="","",VLOOKUP(H19,MP!$A$3:$G$801,2,FALSE)) | J19: =IF(H19="","",VLOOKUP(H19,MP!$A$3:$G$801,7,FALSE)) | L19: =IF(H19="","",VLOOKUP(H19,MP!$A$3:$G$801,6,FALSE)*K19)
B20: 33 | C20: =IF(B20="","",VLOOKUP(B20,MP!$A$3:$G$801,2,FALSE)) -> BIO- MASK AGUA | D20: =IF(B20="","",VLOOKUP(B20,MP!$A$3:$G$801,7,FALSE)) -> GRAMAS | E20: 4 | F20: =IF(B20="","",VLOOKUP(B20,MP!$A$3:$G$801,6,FALSE)*E20) -> 2.5333333 | I20: =IF(H20="","",VLOOKUP(H20,MP!$A$3:$G$801,2,FALSE)) | J20: =IF(H20="","",VLOOKUP(H20,MP!$A$3:$G$801,7,FALSE)) | L20: =IF(H20="","",VLOOKUP(H20,MP!$A$3:$G$801,6,FALSE)*K20)
B21: 82 | C21: =IF(B21="","",VLOOKUP(B21,MP!$A$3:$G$801,2,FALSE)) -> BIO- PEELING QUIMICO ACIDO GLICOLICO | D21: =IF(B21="","",VLOOKUP(B21,MP!$A$3:$G$801,7,FALSE)) -> ML | E21: 2 | F21: =IF(B21="","",VLOOKUP(B21,MP!$A$3:$G$801,6,FALSE)*E21) -> 4.2 | I21: =IF(H21="","",VLOOKUP(H21,MP!$A$3:$G$801,2,FALSE)) | J21: =IF(H21="","",VLOOKUP(H21,MP!$A$3:$G$801,7,FALSE)) | L21: =IF(H21="","",VLOOKUP(H21,MP!$A$3:$G$801,6,FALSE)*K21)
C22: =IF(B22="","",VLOOKUP(B22,MP!$A$3:$G$801,2,FALSE)) | D22: =IF(B22="","",VLOOKUP(B22,MP!$A$3:$G$801,7,FALSE)) | F22: =IF(B22="","",VLOOKUP(B22,MP!$A$3:$G$801,6,FALSE)*E22) | I22: =IF(H22="","",VLOOKUP(H22,MP!$A$3:$G$801,2,FALSE)) | J22: =IF(H22="","",VLOOKUP(H22,MP!$A$3:$G$801,7,FALSE)) | L22: =IF(H22="","",VLOOKUP(H22,MP!$A$3:$G$801,6,FALSE)*K22)
C23: =IF(B23="","",VLOOKUP(B23,MP!$A$3:$G$801,2,FALSE)) | D23: =IF(B23="","",VLOOKUP(B23,MP!$A$3:$G$801,7,FALSE)) | F23: =IF(B23="","",VLOOKUP(B23,MP!$A$3:$G$801,6,FALSE)*E23) | I23: =IF(H23="","",VLOOKUP(H23,MP!$A$3:$G$801,2,FALSE)) | J23: =IF(H23="","",VLOOKUP(H23,MP!$A$3:$G$801,7,FALSE)) | L23: =IF(H23="","",VLOOKUP(H23,MP!$A$3:$G$801,6,FALSE)*K23)
C24: =IF(B24="","",VLOOKUP(B24,MP!$A$3:$G$801,2,FALSE)) | D24: =IF(B24="","",VLOOKUP(B24,MP!$A$3:$G$801,7,FALSE)) | F24: =IF(B24="","",VLOOKUP(B24,MP!$A$3:$G$801,6,FALSE)*E24) | I24: =IF(H24="","",VLOOKUP(H24,MP!$A$3:$G$801,2,FALSE)) | J24: =IF(H24="","",VLOOKUP(H24,MP!$A$3:$G$801,7,FALSE)) | L24: =IF(H24="","",VLOOKUP(H24,MP!$A$3:$G$801,6,FALSE)*K24)
C25: =IF(B25="","",VLOOKUP(B25,MP!$A$3:$G$801,2,FALSE)) | D25: =IF(B25="","",VLOOKUP(B25,MP!$A$3:$G$801,7,FALSE)) | F25: =IF(B25="","",VLOOKUP(B25,MP!$A$3:$G$801,6,FALSE)*E25) | I25: =IF(H25="","",VLOOKUP(H25,MP!$A$3:$G$801,2,FALSE)) | J25: =IF(H25="","",VLOOKUP(H25,MP!$A$3:$G$801,7,FALSE)) | L25: =IF(H25="","",VLOOKUP(H25,MP!$A$3:$G$801,6,FALSE)*K25)
B26: Valor Materia Prima | F26: =SUM(F6:F25) -> 16.927 | H26: Valor Materia Prima | L26: =SUM(L6:L25) -> 45.242789
B27: Cód | C27: EQUIPAMENTO | D27: CUSTO | E27: TEMPO | F27: Valor | H27: Cód | I27: EQUIPAMENTO | J27: CUSTO | K27: TEMPO | L27: Valor
B28: 12 | C28: =IF(B28="","",VLOOKUP(B28,EQUIPAMENTOS!$B$11:$G$98,2,FALSE)) -> AUTOCLAVE DIGITAL | D28: =IF(B28="","",VLOOKUP(B28,EQUIPAMENTOS!$B$11:$G$98,6,FALSE)) -> 0.0044018308 | F28: =IF(B28="","",VLOOKUP(B28,EQUIPAMENTOS!$B$11:$G$98,6,FALSE)*E28) -> 0 | H28: 11 | I28: =IF(H28="","",VLOOKUP(H28,EQUIPAMENTOS!$B$11:$G$98,2,FALSE)) -> CRIODERMIS MEDICAL | J28: =IF(H28="","",VLOOKUP(H28,EQUIPAMENTOS!$B$11:$G$98,6,FALSE)) -> 0.078756313 | L28: =IF(H28="","",VLOOKUP(H28,EQUIPAMENTOS!$B$11:$G$98,6,FALSE)*K28) -> 0
B29: 23 | C29: =IF(B29="","",VLOOKUP(B29,EQUIPAMENTOS!$B$11:$G$98,2,FALSE)) -> KIT FACIAL | D29: =IF(B29="","",VLOOKUP(B29,EQUIPAMENTOS!$B$11:$G$98,6,FALSE)) -> 0.00060763889 | F29: =IF(B29="","",VLOOKUP(B29,EQUIPAMENTOS!$B$11:$G$98,6,FALSE)*E29) -> 0 | H29: 25 | I29: =IF(H29="","",VLOOKUP(H29,EQUIPAMENTOS!$B$11:$G$98,2,FALSE)) -> VENTOSA PARA GLUTEO | J29: =IF(H29="","",VLOOKUP(H29,EQUIPAMENTOS!$B$11:$G$98,6,FALSE)) -> 0.0002667298 | L29: =IF(H29="","",VLOOKUP(H29,EQUIPAMENTOS!$B$11:$G$98,6,FALSE)*K29) -> 0
B30: 13 | C30: =IF(B30="","",VLOOKUP(B30,EQUIPAMENTOS!$B$11:$G$98,2,FALSE)) -> BEAUTY STEAM 120V - VAPOR DE OZÔNIO | D30: =IF(B30="","",VLOOKUP(B30,EQUIPAMENTOS!$B$11:$G$98,6,FALSE)) -> 0.0021938131 | F30: =IF(B30="","",VLOOKUP(B30,EQUIPAMENTOS!$B$11:$G$98,6,FALSE)*E30) -> 0 | I30: =IF(H30="","",VLOOKUP(H30,EQUIPAMENTOS!$B$11:$G$98,2,FALSE)) | J30: =IF(H30="","",VLOOKUP(H30,EQUIPAMENTOS!$B$11:$G$98,6,FALSE)) | L30: =IF(H30="","",VLOOKUP(H30,EQUIPAMENTOS!$B$11:$G$98,6,FALSE)*K30)
B31: 33 | C31: BEAUTY FACE ALTA FREQUÊNCIA | D31: =IF(B31="","",VLOOKUP(B31,EQUIPAMENTOS!$B$11:$G$98,6,FALSE)) -> 0.00071006944 | F31: =IF(B31="","",VLOOKUP(B31,EQUIPAMENTOS!$B$11:$G$98,6,FALSE)*E31) -> 0 | I31: =IF(H31="","",VLOOKUP(H31,EQUIPAMENTOS!$B$11:$G$98,2,FALSE)) | J31: =IF(H31="","",VLOOKUP(H31,EQUIPAMENTOS!$B$11:$G$98,6,FALSE)) | L31: =IF(H31="","",VLOOKUP(H31,EQUIPAMENTOS!$B$11:$G$98,6,FALSE)*K31)
C32: =IF(B32="","",VLOOKUP(B32,EQUIPAMENTOS!$B$11:$G$98,2,FALSE)) | D32: =IF(B32="","",VLOOKUP(B32,EQUIPAMENTOS!$B$11:$G$98,6,FALSE)) | F32: =IF(B32="","",VLOOKUP(B32,EQUIPAMENTOS!$B$11:$G$98,6,FALSE)*E32) | I32: =IF(H32="","",VLOOKUP(H32,EQUIPAMENTOS!$B$11:$G$98,2,FALSE)) | J32: =IF(H32="","",VLOOKUP(H32,EQUIPAMENTOS!$B$11:$G$98,6,FALSE)) | L32: =IF(H32="","",VLOOKUP(H32,EQUIPAMENTOS!$B$11:$G$98,6,FALSE)*K32)
C33: =IF(B33="","",VLOOKUP(B33,EQUIPAMENTOS!$B$11:$G$98,2,FALSE)) | D33: =IF(B33="","",VLOOKUP(B33,EQUIPAMENTOS!$B$11:$G$98,6,FALSE)) | F33: =IF(B33="","",VLOOKUP(B33,EQUIPAMENTOS!$B$11:$G$98,6,FALSE)*E33) | I33: =IF(H33="","",VLOOKUP(H33,EQUIPAMENTOS!$B$11:$G$98,2,FALSE)) | J33: =IF(H33="","",VLOOKUP(H33,EQUIPAMENTOS!$B$11:$G$98,6,FALSE)) | L33: =IF(H33="","",VLOOKUP(H33,EQUIPAMENTOS!$B$11:$G$98,6,FALSE)*K33)
C34: =IF(B34="","",VLOOKUP(B34,EQUIPAMENTOS!$B$11:$G$98,2,FALSE)) | D34: =IF(B34="","",VLOOKUP(B34,EQUIPAMENTOS!$B$11:$G$98,6,FALSE)) | F34: =IF(B34="","",VLOOKUP(B34,EQUIPAMENTOS!$B$11:$G$98,6,FALSE)*E34) | I34: =IF(H34="","",VLOOKUP(H34,EQUIPAMENTOS!$B$11:$G$98,2,FALSE)) | J34: =IF(H34="","",VLOOKUP(H34,EQUIPAMENTOS!$B$11:$G$98,6,FALSE)) | L34: =IF(H34="","",VLOOKUP(H34,EQUIPAMENTOS!$B$11:$G$98,6,FALSE)*K34)
B35: Valor Equipamentos | F35: =SUM(F28:F34) -> 0 | H35: Valor Equipamentos | L35: =SUM(L28:L34) -> 0
B36: Valor Total | F36: =+F26+F35 -> 16.927 | H36: Valor Total | L36: =+L26+L35 -> 45.242789
A39: 12 | B39: DETOX INFRA- RED | H39: POWER MODELADORA
B40: Cód | C40: PRODUTO | D40: UND | E40: Quant. | F40: Valor | H40: Cód | I40: PRODUTO | J40: UND | K40: Quant. | L40: Valor
B41: 8 | C41: =IF(B41="","",VLOOKUP(B41,MP!$A$3:$G$801,2,FALSE)) -> LUVA | D41: =IF(B41="","",VLOOKUP(B41,MP!$A$3:$G$801,7,FALSE)) -> UNID | E41: 2 | F41: =IF(B41="","",VLOOKUP(B41,MP!$A$3:$G$801,6,FALSE)*E41) -> 0.48 | H41: 8 | I41: =IF(H41="","",VLOOKUP(H41,MP!$A$3:$G$801,2,FALSE)) -> LUVA | J41: =IF(H41="","",VLOOKUP(H41,MP!$A$3:$G$801,7,FALSE)) -> UNID | K41: 2 | L41: =IF(H41="","",VLOOKUP(H41,MP!$A$3:$G$801,6,FALSE)*K41) -> 0.48
B42: 25 | C42: =IF(B42="","",VLOOKUP(B42,MP!$A$3:$G$801,2,FALSE)) -> CREME ESFOLIANTE FONTE BRASIL | D42: =IF(B42="","",VLOOKUP(B42,MP!$A$3:$G$801,7,FALSE)) -> GRAMAS | E42: 6 | F42: =IF(B42="","",VLOOKUP(B42,MP!$A$3:$G$801,6,FALSE)*E42) -> 0.25288421 | H42: 25 | I42: =IF(H42="","",VLOOKUP(H42,MP!$A$3:$G$801,2,FALSE)) -> CREME ESFOLIANTE FONTE BRASIL | J42: =IF(H42="","",VLOOKUP(H42,MP!$A$3:$G$801,7,FALSE)) -> GRAMAS | K42: 15 | L42: =IF(H42="","",VLOOKUP(H42,MP!$A$3:$G$801,6,FALSE)*K42) -> 0.63221053
B43: 27 | C43: =IF(B43="","",VLOOKUP(B43,MP!$A$3:$G$801,2,FALSE)) -> FLUIDO TERMOLIPO FB | D43: =IF(B43="","",VLOOKUP(B43,MP!$A$3:$G$801,7,FALSE)) -> ML | E43: 1 | F43: =IF(B43="","",VLOOKUP(B43,MP!$A$3:$G$801,6,FALSE)*E43) -> 0.11975 | H43: 78 | I43: =IF(H43="","",VLOOKUP(H43,MP!$A$3:$G$801,2,FALSE)) -> PAPEL INSUFILME | J43: =IF(H43="","",VLOOKUP(H43,MP!$A$3:$G$801,7,FALSE)) -> CM | K43: 300 | L43: =IF(H43="","",VLOOKUP(H43,MP!$A$3:$G$801,6,FALSE)*K43) -> 0.94657895
B44: 24 | C44: =IF(B44="","",VLOOKUP(B44,MP!$A$3:$G$801,2,FALSE)) -> GEL MIX DE PIMENTA 500G FB | D44: =IF(B44="","",VLOOKUP(B44,MP!$A$3:$G$801,7,FALSE)) -> GRAMAS | E44: 15 | F44: =IF(B44="","",VLOOKUP(B44,MP!$A$3:$G$801,6,FALSE)*E44) -> 0.9969 | H44: 28 | I44: =IF(H44="","",VLOOKUP(H44,MP!$A$3:$G$801,2,FALSE)) -> GEL REDUTOR FB | J44: =IF(H44="","",VLOOKUP(H44,MP!$A$3:$G$801,7,FALSE)) -> GRAMAS | K44: 14 | L44: =IF(H44="","",VLOOKUP(H44,MP!$A$3:$G$801,6,FALSE)*K44) -> 0.61824
...

Sheet PRECIFICAÇÃO
B1: PRECIFICAÇÃO DE VENDA
B3: SERVIÇOS | C3: CUSTO MP | D3: CUSTO MO | E3: CUSTO TOTAL | F3: VLR SUGERIDO | G3: % MC | H3: VLR VENDA | I3: MC | J3: % MC
A4: 11 | B4: =VLOOKUP(A4,SERVIÇOS!A$1:L$1227,2,FALSE) -> LIMPEZA DE PELE | C4: =SERVIÇOS!F26 -> 16.927 | D4: =SERVIÇOS!F35 -> 0 | E4: =C4+D4 -> 16.927 | F4: =IF(E4=0,"",(E4*100)/(100-((G4/100)*10000))) -> 67.708 | G4: 0.75 | H4: 120 | I4: =IF(H4="","",H4-E4) -> 103.073 | J4: =IF(H4="","",I4/H4) -> 0.85894167
A5: 11 | B5: =VLOOKUP(A5,SERVIÇOS!A$1:L$1227,8,FALSE) -> CRIOLIPOLISE DE PLACAS | C5: =SERVIÇOS!L26 -> 45.242789 | D5: =SERVIÇOS!L35 -> 0 | E5: =C5+D5 -> 45.242789 | F5: =IF(E5=0,"",(E5*100)/(100-((G5/100)*10000))) -> 180.97116 | G5: 0.75 | H5: 80 | I5: =IF(H5="","",H5-E5) -> 34.757211 | J5: =IF(H5="","",I5/H5) -> 0.43446514
A6: 12 | B6: =VLOOKUP(A6,SERVIÇOS!A$1:L$1227,2,FALSE) -> DETOX INFRA- RED | C6: =SERVIÇOS!F56 -> 4.9029974 | D6: =SERVIÇOS!F65 -> 0 | E6: =C6+D6 -> 4.9029974 | F6: =IF(E6=0,"",(E6*100)/(100-((G6/100)*10000))) -> 19.611989 | G6: 0.75 | H6: 80 | I6: =IF(H6="","",H6-E6) -> 75.097003 | J6: =IF(H6="","",I6/H6) -> 0.93871253
A7: 12 | B7: =VLOOKUP(A7,SERVIÇOS!A$1:L$1227,8,FALSE) -> POWER MODELADORA | C7: =SERVIÇOS!L56 -> 5.0062189 | D7: =SERVIÇOS!L65 -> 0 | E7: =C7+D7 -> 5.0062189 | F7: =IF(E7=0,"",(E7*100)/(100-((G7/100)*10000))) -> 20.024876 | G7: 0.75 | H7: 50 | I7: =IF(H7="","",H7-E7) -> 44.993781 | J7: =IF(H7="","",I7/H7) -> 0.89987562
A8: 13 | B8: =VLOOKUP(A8,SERVIÇOS!A$1:L$1227,2,FALSE) -> MASSAGEM RELAXANTE | C8: =SERVIÇOS!F86 -> 2.1748684 | D8: =SERVIÇOS!F95 -> 0 | E8: =C8+D8 -> 2.1748684 | F8: =IF(E8=0,"",(E8*100)/(100-((G8/100)*10000))) -> 8.6994737 | G8: 0.75 | H8: 100 | I8: =IF(H8="","",H8-E8) -> 97.825132 | J8: =IF(H8="","",I8/H8) -> 0.97825132
A9: 13 | B9: =VLOOKUP(A9,SERVIÇOS!A$1:L$1227,8,FALSE) -> DRENAGEM LINFÁTICA MANUAL | C9: =SERVIÇOS!L86 -> 2.3404632 | D9: =SERVIÇOS!L95 -> 0 | E9: =C9+D9 -> 2.3404632 | F9: =IF(E9=0,"",(E9*100)/(100-((G9/100)*10000))) -> 9.3618526 | G9: 0.75 | H9: 100 | I9: =IF(H9="","",H9-E9) -> 97.659537 | J9: =IF(H9="","",I9/H9) -> 0.97659537
A10: 14 | B10: =VLOOKUP(A10,SERVIÇOS!A$1:L$1227,2,FALSE) -> ULTRAFOCCUS FACIAL | C10: =SERVIÇOS!F116 -> 5.8398889 | D10: =SERVIÇOS!F125 -> 0.61805556 | E10: =C10+D10 -> 6.4579444 | F10: =IF(E10=0,"",(E10*100)/(100-((G10/100)*10000))) -> 25.831778 | G10: 0.75 | H10: 100 | I10: =IF(H10="","",H10-E10) -> 93.542056 | J10: =IF(H10="","",I10/H10) -> 0.93542056
A11: 14 | B11: =VLOOKUP(A11,SERVIÇOS!A$1:L$1227,8,FALSE) -> ULTAFOCCUS CORPORAL | C11: =SERVIÇOS!L116 -> 4.0028 | D11: =SERVIÇOS!L125 -> 0.61805556 | E11: =C11+D11 -> 4.6208556 | F11: =IF(E11=0,"",(E11*100)/(100-((G11/100)*10000))) -> 18.483422 | G11: 0.75 | H11: 100 | I11: =IF(H11="","",H11-E11) -> 95.379144 | J11: =IF(H11="","",I11/H11) -> 0.95379144
A12: 15 | B12: =VLOOKUP(A12,SERVIÇOS!A$1:L$1227,2,FALSE) -> RADIOFREQUENCIA FACIAL | C12: =SERVIÇOS!F146 -> 12.864056 | D12: =SERVIÇOS!F155 -> 0 | E12: =C12+D12 -> 12.864056 | F12: =IF(E12=0,"",(E12*100)/(100-((G12/100)*10000))) -> 51.456222 | G12: 0.75 | H12: 50 | I12: =IF(H12="","",H12-E12) -> 37.135944 | J12: =IF(H12="","",I12/H12) -> 0.74271889
A13: 15 | B13: =VLOOKUP(A13,SERVIÇOS!A$1:L$1227,8,FALSE) -> RADIOFREQUENCIA CORPORAL | C13: =SERVIÇOS!L146 -> 2.6024 | D13: =SERVIÇOS!L155 -> 0 | E13: =C13+D13 -> 2.6024 | F13: =IF(E13=0,"",(E13*100)/(100-((G13/100)*10000))) -> 10.4096 | G13: 0.75 | H13: 120 | I13: =IF(H13="","",H13-E13) -> 117.3976 | J13: =IF(H13="","",I13/H13) -> 0.97831333
A14: 16 | B14: =VLOOKUP(A14,SERVIÇOS!A$1:L$1227,2,FALSE) -> ENZIMAS EMAGRECIMENTO | C14: =SERVIÇOS!F176 -> 24.43025 | D14: =SERVIÇOS!F185 -> 0 | E14: =C14+D14 -> 24.43025 | F14: =IF(E14=0,"",(E14*100)/(100-((G14/100)*10000))) -> 97.721 | G14: 0.75 | H14: 230 | I14: =IF(H14="","",H14-E14) -> 205.56975 | J14: =IF(H14="","",I14/H14) -> 0.89378152
A15: 16 | B15: =VLOOKUP(A15,SERVIÇOS!A$1:L$1227,8,FALSE) -> ENZIMAS CAPILAR MASC. | C15: =SERVIÇOS!L176 -> 41.05955 | D15: =SERVIÇOS!L185 -> 0 | E15: =C15+D15 -> 41.05955 | F15: =IF(E15=0,"",(E15*100)/(100-((G15/100)*10000))) -> 164.2382 | G15: 0.75 | H15: 80 | I15: =IF(H15="","",H15-E15) -> 38.94045 | J15: =IF(H15="","",I15/H15) -> 0.48675562
A16: 17 | B16: =VLOOKUP(A16,SERVIÇOS!A$1:L$1227,2,FALSE) -> ENZIMAS TRATAMENTO DE PAPADA | C16: =SERVIÇOS!F206 -> 99.1823 | D16: =SERVIÇOS!F215 -> 0.28093434 | E16: =C16+D16 -> 99.463234 | F16: =IF(E16=0,"",(E16*100)/(100-((G16/100)*10000))) -> 397.85294 | G16: 0.75 | H16: 80 | I16: =IF(H16="","",H16-E16) -> -19.463234 | J16: =IF(H16="","",I16/H16) -> -0.24329043
A17: 17 | B17: =VLOOKUP(A17,SERVIÇOS!A$1:L$1227,8,FALSE) -> ENZIMA CAPILAR FEM. | C17: =SERVIÇOS!L206 -> 37.1233 | D17: =SERVIÇOS!L215 -> 0 | E17: =C17+D17 -> 37.1233 | F17: =IF(E17=0,"",(E17*100)/(100-((G17/100)*10000))) -> 148.4932 | G17: 0.75 | H17: 130 | I17: =IF(H17="","",H17-E17) -> 92.8767 | J17: =IF(H17="","",I17/H17) -> 0.71443615
A18: 18 | B18: =VLOOKUP(A18,SERVIÇOS!A$1:L$1227,2,FALSE) -> ENZIMA GL | C18: =SERVIÇOS!F236 -> 44.9405 | D18: =SERVIÇOS!F245 -> 0 | E18: =C18+D18 -> 44.9405 | F18: =IF(E18=0,"",(E18*100)/(100-((G18/100)*10000))) -> 179.762 | G18: 0.75 | H18: 70 | I18: =IF(H18="","",H18-E18) -> 25.0595 | J18: =IF(H18="","",I18/H18) -> 0.35799286
A19: 18 | B19: =VLOOKUP(A19,SERVIÇOS!A$1:L$1227,8,FALSE) -> REJUVENESCIMENTO INTIMO | C19: =SERVIÇOS!L236 -> 9.4733333 | D19: =SERVIÇOS!L245 -> 0.022009154 | E19: =C19+D19 -> 9.4953425 | F19: =IF(E19=0,"",(E19*100)/(100-((G19/100)*10000))) -> 37.98137 | G19: 0.75 | H19: 40 | I19: =IF(H19="","",H19-E19) -> 30.504658 | J19: =IF(H19="","",I19/H19) -> 0.76261644
A20: 19 | B20: =VLOOKUP(A20,SERVIÇOS!A$1:L$1227,2,FALSE) -> STRIORT | C20: =SERVIÇOS!F266 -> 9.597 | D20: =SERVIÇOS!F275 -> 0.09927399 | E20: =C20+D20 -> 9.696274 | F20: =IF(E20=0,"",(E20*100)/(100-((G20/100)*10000))) -> 38.785096 | G20: 0.75 | H20: 80 | I20: =IF(H20="","",H20-E20) -> 70.303726 | J20: =IF(H20="","",I20/H20) -> 0.87879658
A21: 19 | B21: =VLOOKUP(A21,SERVIÇOS!A$1:L$1227,8,FALSE) -> CAVICELL | C21: =SERVIÇOS!L266 -> 2.66095 | D21: =SERVIÇOS!L275 -> 0.076546717 | E21: =C21+D21 -> 2.7374967 | F21: =IF(E21=0,"",(E21*100)/(100-((G21/100)*10000))) -> 10.949987 | G21: 0.75 | H21: 100 | I21: =IF(H21="","",H21-E21) -> 97.262503 | J21: =IF(H21="","",I21/H21) -> 0.97262503
A22: 20 | B22: =VLOOKUP(A22,SERVIÇOS!A$1:L$1227,2,FALSE) -> ELETROCAUTERIO | C22: =SERVIÇOS!F296 -> 60.11238 | D22: =SERVIÇOS!F305 -> 0.21070076 | E22: =C22+D22 -> 60.323081 | F22: =IF(E22=0,"",(E22*100)/(100-((G22/100)*10000))) -> 241.29232 | G22: 0.75 | H22: 150 | I22: =IF(H22="","",H22-E22) -> 89.676919 | J22: =IF(H22="","",I22/H22) -> 0.59784613
A23: 20 | B23: =VLOOKUP(A23,SERVIÇOS!A$1:L$1227,8,FALSE) -> PEELING DE DIAMANTE | C23: =SERVIÇOS!L296 -> 11.739833 | D23: =SERVIÇOS!L305 -> 0.14891098 | E23: =C23+D23 -> 11.888744 | F23: =IF(E23=0,"",(E23*100)/(100-((G23/100)*10000))) -> 47.554977 | G23: 0.75 | H23: 150 | I23: =IF(H23="","",H23-E23) -> 138.11126 | J23: =IF(H23="","",I23/H23) -> 0.9207417
A24: 21 | B24: =VLOOKUP(A24,SERVIÇOS!A$1:L$1227,2,FALSE) -> CRIOFREQUENCIA FACIAL | C24: =SERVIÇOS!F326 -> 4.072 | D24: =SERVIÇOS!F335 -> 0.81755051 | E24: =C24+D24 -> 4.8895505 | F24: =IF(E24=0,"",(E24*100)/(100-((G24/100)*10000))) -> 19.558202 | G24: 0.75 | H24: 120 | I24: =IF(H24="","",H24-E24) -> 115.11045 | J24: =IF(H24="","",I24/H24) -> 0.95925375
A25: 21 | B25: =VLOOKUP(A25,SERVIÇOS!A$1:L$1227,8,FALSE) -> CRIOFREQUENCIA CORPORAL | C25: =SERVIÇOS!L326 -> 8.189 | D25: =SERVIÇOS!L335 -> 0.81755051 | E25: =C25+D25 -> 9.0065505 | F25: =IF(E25=0,"",(E25*100)/(100-((G25/100)*10000))) -> 36.026202 | G25: 0.75 | H25: 120 | I25: =IF(H25="","",H25-E25) -> 110.99345 | J25: =IF(H25="","",I25/H25) -> 0.92494541
A26: 22 | B26: =VLOOKUP(A26,SERVIÇOS!A$1:L$1227,2,FALSE) -> TERAPIA COMBINADA | C26: =SERVIÇOS!F356 -> 9.7346632 | D26: =SERVIÇOS!F365 -> 0 | E26: =C26+D26 -> 9.7346632 | F26: =IF(E26=0,"",(E26*100)/(100-((G26/100)*10000))) -> 38.938653 | G26: 0.75 | I26: =IF(H26="","",H26-E26) | J26: =IF(H26="","",I26/H26)
A27: 22 | B27: =VLOOKUP(A27,SERVIÇOS!A$1:L$1227,8,FALSE) -> CARBOXITERAPIA | C27: =SERVIÇOS!L356 -> 1.7995 | D27: =SERVIÇOS!L365 -> 0 | E27: =C27+D27 -> 1.7995 | F27: =IF(E27=0,"",(E27*100)/(100-((G27/100)*10000))) -> 7.198 | G27: 0.75 | I27: =IF(H27="","",H27-E27) | J27: =IF(H27="","",I27/H27)
A28: 23 | B28: =VLOOKUP(A28,SERVIÇOS!A$1:L$1227,2,FALSE) -> MICROAGULHAMENTO ESTRIAS | C28: =SERVIÇOS!F386 -> 0 | D28: =SERVIÇOS!F395 -> 0 | E28: =C28+D28 -> 0 | F28: =IF(E28=0,"",(E28*100)/(100-((G28/100)*10000))) | G28: 0.75 | I28: =IF(H28="","",H28-E28) | J28: =IF(H28="","",I28/H28)
A29: 23 | B29: =VLOOKUP(A29,SERVIÇOS!A$1:L$1227,8,FALSE) -> MICROAGULHAMENTO DRUG DELIVERY | C29: =SERVIÇOS!L386 -> 49.946533 | D29: =SERVIÇOS!L395 -> 0 | E29: =C29+D29 -> 49.946533 | F29: =IF(E29=0,"",(E29*100)/(100-((G29/100)*10000))) -> 199.78613 | G29: 0.75 | I29: =IF(H29="","",H29-E29) | J29: =IF(H29="","",I29/H29)
A30: 24 | B30: =VLOOKUP(A30,SERVIÇOS!A$1:L$1227,2,FALSE) -> MICROAGULAMENTO CICATRIZ DE ACNE | C30: =SERVIÇOS!F416 -> 49.946533 | D30: =SERVIÇOS!F425 -> 0 | E30: =C30+D30 -> 49.946533 | F30: =IF(E30=0,"",(E30*100)/(100-((G30/100)*10000))) -> 199.78613 | G30: 0.75 | I30: =IF(H30="","",H30-E30) | J30: =IF(H30="","",I30/H30)
A31: 24 | B31: =VLOOKUP(A31,SERVIÇOS!A$1:L$1227,8,FALSE) -> MICROAGULHAMENTO REJUVENESCIMENTO | C31: =SERVIÇOS!L416 -> 49.789033 | D31: =SERVIÇOS!L425 -> 0 | E31: =C31+D31 -> 49.789033 | F31: =IF(E31=0,"",(E31*100)/(100-((G31/100)*10000))) -> 199.15613 | G31: 0.75 | I31: =IF(H31="","",H31-E31) | J31: =IF(H31="","",I31/H31)
A32: 25 | B32: =VLOOKUP(A32,SERVIÇOS!A$1:L$1227,2,FALSE) -> DEPILAÇÃO A LASER - SOPRANO PLATINUM | C32: =SERVIÇOS!F446 -> 19.635683 | D32: =SERVIÇOS!F455 -> 0 | E32: =C32+D32 -> 19.635683 | F32: =IF(E32=0,"",(E32*100)/(100-((G32/100)*10000))) -> 78.54273 | G32: 0.75 | I32: =IF(H32="","",H32-E32) | J32: =IF(H32="","",I32/H32)
A33: 25 | B33: =VLOOKUP(A33,SERVIÇOS!A$1:L$1227,8,FALSE) -> CORRENTE RUSSA | C33: =SERVIÇOS!L446 -> 2.7414 | D33: =SERVIÇOS!L455 -> 0 | E33: =C33+D33 -> 2.7414 | F33: =IF(E33=0,"",(E33*100)/(100-((G33/100)*10000))) -> 10.9656 | G33: 0.75 | I33: =IF(H33="","",H33-E33) | J33: =IF(H33="","",I33/H33)
A34: 26 | B34: =VLOOKUP(A34,SERVIÇOS!A$1:L$1227,2,FALSE) -> VULCAN ICE MAX PREMIUM ESSENCE | C34: =SERVIÇOS!F476 -> 42.3615 | D34: =SERVIÇOS!F485 -> 0 | E34: =C34+D34 -> 42.3615 | F34: =IF(E34=0,"",(E34*100)/(100-((G34/100)*10000))) -> 169.446 | G34: 0.75 | I34: =IF(H34="","",H34-E34) | J34: =IF(H34="","",I34/H34)
A35: 26 | B35: =VLOOKUP(A35,SERVIÇOS!A$1:L$1227,8,FALSE) -> VULCAN ICE MAX PREMIUM | C35: =SERVIÇOS!L476 -> 85.0945 | D35: =SERVIÇOS!L485 -> 0 | E35: =C35+D35 -> 85.0945 | F35: =IF(E35=0,"",(E35*100)/(100-((G35/100)*10000))) -> 340.378 | G35: 0.75 | I35: =IF(H35="","",H35-E35) | J35: =IF(H35="","",I35/H35)
A36: 27 | B36: =VLOOKUP(A36,SERVIÇOS!A$1:L$1227,2,FALSE) -> EFEITO PELE NOVA BIOAGE - VIT. C | C36: =SERVIÇOS!F506 -> 25.707 | D36: =SERVIÇOS!F515 -> 0 | E36: =C36+D36 -> 25.707 | F36: =IF(E36=0,"",(E36*100)/(100-((G36/100)*10000))) -> 102.828 | G36: 0.75 | I36: =IF(H36="","",H36-E36) | J36: =IF(H36="","",I36/H36)
A37: 27 | B37: =VLOOKUP(A37,SERVIÇOS!A$1:L$1227,8,FALSE) -> ACNE SOLUTION BIOAGE | C37: =SERVIÇOS!L506 -> 19.213815 | D37: =SERVIÇOS!L515 -> 0 | E37: =C37+D37 -> 19.213815 | F37: =IF(E37=0,"",(E37*100)/(100-((G37/100)*10000))) -> 76.85526 | G37: 0.75 | I37: =IF(H37="","",H37-E37) | J37: =IF(H37="","",I37/H37)
A38: 28 | B38: =VLOOKUP(A38,SERVIÇOS!A$1:L$1227,2,FALSE) -> ACNE SPEC - COSMOBEAUTY | C38: =SERVIÇOS!F536 -> 89.195 | D38: =SERVIÇOS!F545 -> 0 | E38: =C38+D38 -> 89.195 | F38: =IF(E38=0,"",(E38*100)/(100-((G38/100)*10000))) -> 356.78 | G38: 0.75 | I38: =IF(H38="","",H38-E38) | J38: =IF(H38="","",I38/H38)
A39: 28 | B39: =VLOOKUP(A39,SERVIÇOS!A$1:L$1227,8,FALSE) -> PÉROLAS ORIENTAIS - COSMOBEAUTY | C39: =SERVIÇOS!L536 -> 32.222333 | D39: =SERVIÇOS!L545 -> 0 | E39: =C39+D39 -> 32.222333 | F39: =IF(E39=0,"",(E39*100)/(100-((G39/100)*10000))) -> 128.88933 | G39: 0.75 | I39: =IF(H39="","",H39-E39) | J39: =IF(H39="","",I39/H39)
A40: 29 | B40: =VLOOKUP(A40,SERVIÇOS!A$1:L$1227,2,FALSE) -> PERFECT PEEL - BIOAGE | C40: =SERVIÇOS!F566 -> 23.626333 | D40: =SERVIÇOS!F575 -> 0 | E40: =C40+D40 -> 23.626333 | F40: =IF(E40=0,"",(E40*100)/(100-((G40/100)*10000))) -> 94.505333 | G40: 0.75 | I40: =IF(H40="","",H40-E40) | J40: =IF(H40="","",I40/H40)
A41: 29 | B41: =VLOOKUP(A41,SERVIÇOS!A$1:L$1227,8,FALSE) -> COLOR BIO-MASK COLLECTION - BIOAGE | C41: =SERVIÇOS!L566 -> 38.251154 | D41: =SERVIÇOS!L575 -> 0 | E41: =C41+D41 -> 38.251154 | F41: =IF(E41=0,"",(E41*100)/(100-((G41/100)*10000))) -> 153.00462 | G41: 0.75 | I41: =IF(H41="","",H41-E41) | J41: =IF(H41="","",I41/H41)
...

Sheet SIMULAÇÃO VENDA
B1: SIMULAÇÃO DE VENDA
G3: 1.064 | H3: 1.16 | I3: 1.27
B4: SERVIÇO / TRATAMENTO | C4: SESSÃO | D4: QUANT SESSÕES | E4: M.C. | F4: VLR NORMAL | G4: À VISTA
B5: =PRECIFICAÇÃO!B4 -> LIMPEZA DE PELE | C5: =PRECIFICAÇÃO!H4 -> 120 | D5: 1 | E5: =PRECIFICAÇÃO!J4 -> 0.85894167 | F5: =C5*D5 -> 120 | G5: =ROUNDUP((F5*$G$3),0) -> 128 | H5: =ROUNDUP((F5*$H$3),0) -> 140 | I5: =ROUNDUP((F5*$I$3),0) -> 153
B6: =PRECIFICAÇÃO!B5 -> CRIOLIPOLISE DE PLACAS | C6: =PRECIFICAÇÃO!H5 -> 80 | D6: 1 | E6: =PRECIFICAÇÃO!J5 -> 0.43446514 | F6: =C6*D6 -> 80 | G6: =ROUNDUP((F6*$G$3),0) -> 86 | H6: =ROUNDUP((F6*$H$3),0) -> 93 | I6: =ROUNDUP((F6*$I$3),0) -> 102
B7: =PRECIFICAÇÃO!B6 -> DETOX INFRA- RED | C7: =PRECIFICAÇÃO!H6 -> 80 | D7: 1 | E7: =PRECIFICAÇÃO!J6 -> 0.93871253 | F7: =C7*D7 -> 80 | G7: =ROUNDUP((F7*$G$3),0) -> 86 | H7: =ROUNDUP((F7*$H$3),0) -> 93 | I7: =ROUNDUP((F7*$I$3),0) -> 102
B8: =PRECIFICAÇÃO!B7 -> POWER MODELADORA | C8: =PRECIFICAÇÃO!H7 -> 50 | D8: 1 | E8: =PRECIFICAÇÃO!J7 -> 0.89987562 | F8: =C8*D8 -> 50 | G8: =ROUNDUP((F8*$G$3),0) -> 54 | H8: =ROUNDUP((F8*$H$3),0) -> 58 | I8: =ROUNDUP((F8*$I$3),0) -> 64
B9: =PRECIFICAÇÃO!B8 -> MASSAGEM RELAXANTE | C9: =PRECIFICAÇÃO!H8 -> 100 | D9: 1 | E9: =PRECIFICAÇÃO!J8 -> 0.97825132 | F9: =C9*D9 -> 100 | G9: =ROUNDUP((F9*$G$3),0) -> 107 | H9: =ROUNDUP((F9*$H$3),0) -> 116 | I9: =ROUNDUP((F9*$I$3),0) -> 127
B10: =PRECIFICAÇÃO!B9 -> DRENAGEM LINFÁTICA MANUAL | C10: =PRECIFICAÇÃO!H9 -> 100 | D10: 1 | E10: =PRECIFICAÇÃO!J9 -> 0.97659537 | F10: =C10*D10 -> 100 | G10: =ROUNDUP((F10*$G$3),0) -> 107 | H10: =ROUNDUP((F10*$H$3),0) -> 116 | I10: =ROUNDUP((F10*$I$3),0) -> 127
B11: =PRECIFICAÇÃO!B10 -> ULTRAFOCCUS FACIAL | C11: =PRECIFICAÇÃO!H10 -> 100 | D11: 1 | E11: =PRECIFICAÇÃO!J10 -> 0.93542056 | F11: =C11*D11 -> 100 | G11: =ROUNDUP((F11*$G$3),0) -> 107 | H11: =ROUNDUP((F11*$H$3),0) -> 116 | I11: =ROUNDUP((F11*$I$3),0) -> 127
B12: =PRECIFICAÇÃO!B11 -> ULTAFOCCUS CORPORAL | C12: =PRECIFICAÇÃO!H11 -> 100 | D12: 1 | E12: =PRECIFICAÇÃO!J11 -> 0.95379144 | F12: =C12*D12 -> 100 | G12: =ROUNDUP((F12*$G$3),0) -> 107 | H12: =ROUNDUP((F12*$H$3),0) -> 116 | I12: =ROUNDUP((F12*$I$3),0) -> 127
B13: =PRECIFICAÇÃO!B12 -> RADIOFREQUENCIA FACIAL | C13: =PRECIFICAÇÃO!H12 -> 50 | D13: 1 | E13: =PRECIFICAÇÃO!J12 -> 0.74271889 | F13: =C13*D13 -> 50 | G13: =ROUNDUP((F13*$G$3),0) -> 54 | H13: =ROUNDUP((F13*$H$3),0) -> 58 | I13: =ROUNDUP((F13*$I$3),0) -> 64
B14: =PRECIFICAÇÃO!B13 -> RADIOFREQUENCIA CORPORAL | C14: =PRECIFICAÇÃO!H13 -> 120 | D14: 1 | E14: =PRECIFICAÇÃO!J13 -> 0.97831333 | F14: =C14*D14 -> 120 | G14: =ROUNDUP((F14*$G$3),0) -> 128 | H14: =ROUNDUP((F14*$H$3),0) -> 140 | I14: =ROUNDUP((F14*$I$3),0) -> 153
B15: =PRECIFICAÇÃO!B14 -> ENZIMAS EMAGRECIMENTO | C15: =PRECIFICAÇÃO!H14 -> 230 | D15: 1 | E15: =PRECIFICAÇÃO!J14 -> 0.89378152 | F15: =C15*D15 -> 230 | G15: =ROUNDUP((F15*$G$3),0) -> 245 | H15: =ROUNDUP((F15*$H$3),0) -> 267 | I15: =ROUNDUP((F15*$I$3),0) -> 293
B16: =PRECIFICAÇÃO!B15 -> ENZIMAS CAPILAR MASC. | C16: =PRECIFICAÇÃO!H15 -> 80 | D16: 1 | E16: =PRECIFICAÇÃO!J15 -> 0.48675562 | F16: =C16*D16 -> 80 | G16: =ROUNDUP((F16*$G$3),0) -> 86 | H16: =ROUNDUP((F16*$H$3),0) -> 93 | I16: =ROUNDUP((F16*$I$3),0) -> 102
... B71: =PRECIFICAÇÃO!B70 -> - | C71: =PRECIFICAÇÃO!H70 -> 0 | D71: 1 | E71: =PRECIFICAÇÃO!J70 | F71: =C71*D71 -> 0 | G71: =ROUNDUP((F71*$G$3),0) -> 0 | H71: =ROUNDUP((F71*$H$3),0) -> 0 | I71: =ROUNDUP((F71*$I$3),0) -> 0

Sheet FATURAMENTO MENSAL
B1: FATURAMENTO MENSAL
B5: ESTIMATIVA DO FATURAMENTO MENSAL DA EMPRESA | D5: TOTAL | E5: =E8+E84 -> 26312
B7: SERVIÇOS / PRODUTOS | C7: Estimativa de Vendas | D7: Preço de Venda | E7: FATURAMENTO
B8: SERVIÇOS | E8: =SUM(E9:E83) -> 24620
B9: =PRECIFICAÇÃO!B4 -> LIMPEZA DE PELE | C9: 8 | D9: =PRECIFICAÇÃO!H4 -> 120 | E9: =IF(D9="","",C9*D9) -> 960
B10: =PRECIFICAÇÃO!B5 -> CRIOLIPOLISE DE PLACAS | C10: 6 | D10: =PRECIFICAÇÃO!H5 -> 80 | E10: =IF(D10="","",C10*D10) -> 480
B11: =PRECIFICAÇÃO!B6 -> DETOX INFRA- RED | C11: 30 | D11: =PRECIFICAÇÃO!H6 -> 80 | E11: =IF(D11="","",C11*D11) -> 2400
B12: =PRECIFICAÇÃO!B7 -> POWER MODELADORA | C12: 40 | D12: =PRECIFICAÇÃO!H7 -> 50 | E12: =IF(D12="","",C12*D12) -> 2000
B13: =PRECIFICAÇÃO!B8 -> MASSAGEM RELAXANTE | C13: 4 | D13: =PRECIFICAÇÃO!H8 -> 100 | E13: =IF(D13="","",C13*D13) -> 400
B14: =PRECIFICAÇÃO!B9 -> DRENAGEM LINFÁTICA MANUAL | C14: 3 | D14: =PRECIFICAÇÃO!H9 -> 100 | E14: =IF(D14="","",C14*D14) -> 300
B15: =PRECIFICAÇÃO!B10 -> ULTRAFOCCUS FACIAL | C15: 4 | D15: =PRECIFICAÇÃO!H10 -> 100 | E15: =IF(D15="","",C15*D15) -> 400
B16: =PRECIFICAÇÃO!B11 -> ULTAFOCCUS CORPORAL | C16: 30 | D16: =PRECIFICAÇÃO!H11 -> 100 | E16: =IF(D16="","",C16*D16) -> 3000
B17: =PRECIFICAÇÃO!B12 -> RADIOFREQUENCIA FACIAL | C17: 10 | D17: =PRECIFICAÇÃO!H12 -> 50 | E17: =IF(D17="","",C17*D17) -> 500
B18: =PRECIFICAÇÃO!B13 -> RADIOFREQUENCIA CORPORAL | C18: 2 | D18: =PRECIFICAÇÃO!H13 -> 120 | E18: =IF(D18="","",C18*D18) -> 240
B19: =PRECIFICAÇÃO!B14 -> ENZIMAS EMAGRECIMENTO | C19: 4 | D19: =PRECIFICAÇÃO!H14 -> 230 | E19: =IF(D19="","",C19*D19) -> 920
B20: =PRECIFICAÇÃO!B15 -> ENZIMAS CAPILAR MASC. | C20: 0 | D20: =PRECIFICAÇÃO!H15 -> 80 | E20: =IF(D20="","",C20*D20) -> 0
... B31: =PRECIFICAÇÃO!B26 -> TERAPIA COMBINADA | C31: 0 | D31: =PRECIFICAÇÃO!H26 -> 0 | E31: =IF(D31="","",C31*D31) -> 0
B32: =PRECIFICAÇÃO!B27 -> CARBOXITERAPIA | D32: =PRECIFICAÇÃO!H27 -> 0 | E32: =IF(D32="","",C32*D32) -> 0
B33: =PRECIFICAÇÃO!B28 -> MICROAGULHAMENTO ESTRIAS | C33: 0 | D33: =PRECIFICAÇÃO!H28 -> 0 | E33: =IF(D33="","",C33*D33) -> 0
B34: =PRECIFICAÇÃO!B29 -> MICROAGULHAMENTO DRUG DELIVERY | C34: 0 | D34: =PRECIFICAÇÃO!H29 -> 0 | E34: =IF(D34="","",C34*D34) -> 0
B35: =PRECIFICAÇÃO!B30 -> MICROAGULAMENTO CICATRIZ DE ACNE | C35: 0 | D35: =PRECIFICAÇÃO!H30 -> 0 | E35: =IF(D35="","",C35*D35) -> 0
B36: =PRECIFICAÇÃO!B31 -> MICROAGULHAMENTO REJUVENESCIMENTO | C36: 0 | D36: =PRECIFICAÇÃO!H31 -> 0 | E36: =IF(D36="","",C36*D36) -> 0
B37: =PRECIFICAÇÃO!B32 -> DEPILAÇÃO A LASER - SOPRANO PLATINUM | C37: 0 | D37: =PRECIFICAÇÃO!H32 -> 0 | E37: =IF(D37="","",C37*D37) -> 0
B38: =PRECIFICAÇÃO!B33 -> CORRENTE RUSSA | C38: 0 | D38: =PRECIFICAÇÃO!H33 -> 0 | E38: =IF(D38="","",C38*D38) -> 0
B39: =PRECIFICAÇÃO!B34 -> VULCAN ICE MAX PREMIUM ESSENCE | C39: 0 | D39: =PRECIFICAÇÃO!H34 -> 0 | E39: =IF(D39="","",C39*D39) -> 0
B40: =PRECIFICAÇÃO!B35 -> VULCAN ICE MAX PREMIUM | C40: 0 | D40: =PRECIFICAÇÃO!H35 -> 0 | E40: =IF(D40="","",C40*D40) -> 0
B41: =PRECIFICAÇÃO!B36 -> EFEITO PELE NOVA BIOAGE - VIT. C | C41: 0 | D41: =PRECIFICAÇÃO!H36 -> 0 | E41: =IF(D41="","",C41*D41) -> 0
B42: =PRECIFICAÇÃO!B37 -> ACNE SOLUTION BIOAGE | C42: 0 | D42: =PRECIFICAÇÃO!H37 -> 0 | E42: =IF(D42="","",C42*D42) -> 0
B43: =PRECIFICAÇÃO!B38 -> ACNE SPEC - COSMOBEAUTY | C43: 0 | D43: =PRECIFICAÇÃO!H38 -> 0 | E43: =IF(D43="","",C43*D43) -> 0
B44: =PRECIFICAÇÃO!B39 -> PÉROLAS ORIENTAIS - COSMOBEAUTY | C44: 0 | D44: =PRECIFICAÇÃO!H39 -> 0 | E44: =IF(D44="","",C44*D44) -> 0
... B77: =PRECIFICAÇÃO!B72 -> - | C77: 0 | D77: =PRECIFICAÇÃO!H72 -> 0 | E77: =IF(D77="","",C77*D77) -> 0
C78: 0 | D78: 50 | E78: =IF(D78="","",C78*D78) -> 0
C79: 0 | D79: 80 | E79: =IF(D79="","",C79*D79) -> 0
C80: 0 | E80: =IF(D80="","",C80*D80)
C81: 0 | E81: =IF(D81="","",C81*D81)
C82: 0 | E82: =IF(D82="","",C82*D82)
C83: 0 | E83: =IF(D83="","",C83*D83)
B84: PRODUTOS REVENDA | E84: =SUM(E86:E352) -> 1692
B85: SERVIÇOS / PRODUTOS | C85: Estimativa de Vendas | D85: Preço de Venda | E85: FATURAMENTO
B86: ='PROD. REVENDA'!B3 -> CELLU SHOK | C86: 2 | D86: ='PROD. REVENDA'!E3 -> 75 | E86: =IF(D86="","",C86*D86) -> 150
...

Sheet CUSTO VARIAVEL
B1: CUSTO VARIÁVEL
B5: CUSTO SERVIÇOS / PRODUTOS | F5: TOTAL | H5: =SUM(H8:H351) -> 6022.6157
B6: SERVIÇOS / PRODUTOS | D6: Estimativa de Vendas | E6: X | F6: CUSTO | G6: = | H6: CMD / CMV
B7: SERVIÇOS
B8: ='FATURAMENTO MENSAL'!B9 -> LIMPEZA DE PELE | D8: ='FATURAMENTO MENSAL'!C9 -> 8 | F8: =PRECIFICAÇÃO!E4 -> 16.927 | H8: =IF(F8="","",D8*F8) -> 135.416
B9: ='FATURAMENTO MENSAL'!B10 -> CRIOLIPOLISE DE PLACAS | D9: ='FATURAMENTO MENSAL'!C10 -> 6 | F9: =PRECIFICAÇÃO!E5 -> 45.242789 | H9: =IF(F9="","",D9*F9) -> 271.45673
B10: ='FATURAMENTO MENSAL'!B11 -> DETOX INFRA- RED | D10: ='FATURAMENTO MENSAL'!C11 -> 30 | F10: =PRECIFICAÇÃO!E6 -> 4.9029974 | H10: =IF(F10="","",D10*F10) -> 147.08992
B11: ='FATURAMENTO MENSAL'!B12 -> POWER MODELADORA | D11: ='FATURAMENTO MENSAL'!C12 -> 40 | F11: =PRECIFICAÇÃO!E7 -> 5.0062189 | H11: =IF(F11="","",D11*F11) -> 200.24876
B12: ='FATURAMENTO MENSAL'!B13 -> MASSAGEM RELAXANTE | D12: ='FATURAMENTO MENSAL'!C13 -> 4 | F12: =PRECIFICAÇÃO!E8 -> 2.1748684 | H12: =IF(F12="","",D12*F12) -> 8.6994737
B13: ='FATURAMENTO MENSAL'!B14 -> DRENAGEM LINFÁTICA MANUAL | D13: ='FATURAMENTO MENSAL'!C14 -> 3 | F13: =PRECIFICAÇÃO!E9 -> 2.3404632 | H13: =IF(F13="","",D13*F13) -> 7.0213895
B14: ='FATURAMENTO MENSAL'!B15 -> ULTRAFOCCUS FACIAL | D14: ='FATURAMENTO MENSAL'!C15 -> 4 | F14: =PRECIFICAÇÃO!E10 -> 6.4579444 | H14: =IF(F14="","",D14*F14) -> 25.831778
B15: ='FATURAMENTO MENSAL'!B16 -> ULTAFOCCUS CORPORAL | D15: ='FATURAMENTO MENSAL'!C16 -> 30 | F15: =PRECIFICAÇÃO!E11 -> 4.6208556 | H15: =IF(F15="","",D15*F15) -> 138.62567
B16: ='FATURAMENTO MENSAL'!B17 -> RADIOFREQUENCIA FACIAL | D16: ='FATURAMENTO MENSAL'!C17 -> 10 | F16: =PRECIFICAÇÃO!E12 -> 12.864056 | H16: =IF(F16="","",D16*F16) -> 128.64056
B17: ='FATURAMENTO MENSAL'!B18 -> RADIOFREQUENCIA CORPORAL | D17: ='FATURAMENTO MENSAL'!C18 -> 2 | F17: =PRECIFICAÇÃO!E13 -> 2.6024 | H17: =IF(F17="","",D17*F17) -> 5.2048
B18: ='FATURAMENTO MENSAL'!B19 -> ENZIMAS EMAGRECIMENTO | D18: ='FATURAMENTO MENSAL'!C19 -> 4 | F18: =PRECIFICAÇÃO!E14 -> 24.43025 | H18: =IF(F18="","",D18*F18) -> 97.721
B19: ='FATURAMENTO MENSAL'!B20 -> ENZIMAS CAPILAR MASC. | D19: ='FATURAMENTO MENSAL'!C20 -> 0 | F19: =PRECIFICAÇÃO!E15 -> 41.05955 | H19: =IF(F19="","",D19*F19) -> 0
... B76: ='FATURAMENTO MENSAL'!B77 -> - | D76: ='FATURAMENTO MENSAL'!C77 -> 0 | F76: =PRECIFICAÇÃO!E72 -> 0 | H76: =IF(F76="","",D76*F76) -> 0
F77: 0 | H77: =IF(F77="","",D77*F77) -> 0
H78: =IF(F78="","",D78*F78)
H79: =IF(F79="","",D79*F79)
H80: =IF(F80="","",D80*F80)
H81: =IF(F81="","",D81*F81)
H82: =IF(F82="","",D82*F82)
H83: =IF(F83="","",D83*F83)
B84: PRODUTOS REVENDA
B85: ='FATURAMENTO MENSAL'!B86 -> CELLU SHOK | D85: ='FATURAMENTO MENSAL'!C86 -> 2 | F85: =PRECIFICAÇÃO!F76 -> 55 | H85: =IF(F85="","",D85*F85) -> 110
B86: ='FATURAMENTO MENSAL'!B87 -> BODY REDUX CREME | D86: ='FATURAMENTO MENSAL'!C87 -> 2 | F86: =PRECIFICAÇÃO!F77 -> 55 | H86: =IF(F86="","",D86*F86) -> 110
B87: ='FATURAMENTO MENSAL'!B88 -> BLUR HD COM COR | D87: ='FATURAMENTO MENSAL'!C88 -> 5 | F87: =PRECIFICAÇÃO!F78 -> 92 | H87: =IF(F87="","",D87*F87) -> 460
B88: ='FATURAMENTO MENSAL'!B89 -> MELANOSE PREMIUM COSMOBEAUTY | D88: ='FATURAMENTO MENSAL'!C89 -> 1 | F88: =PRECIFICAÇÃO!F79 -> 155.94 | H88: =IF(F88="","",D88*F88) -> 155.94
B89: ='FATURAMENTO MENSAL'!B90 -> PROTETOR VULCANICE COSMOBEAUTY | D89: ='FATURAMENTO MENSAL'!C90 -> 2 | F89: =PRECIFICAÇÃO!F80 -> 51.54 | H89: =IF(F89="","",D89*F89) -> 103.08
B90: ='FATURAMENTO MENSAL'!B91 -> SABONETE MOUSSE PLASTIC CLAREANCE COSMOBEAUTY | D90: ='FATURAMENTO MENSAL'!C91 -> 0 | F90: =PRECIFICAÇÃO!F81 -> 52 | H90: =IF(F90="","",D90*F90) -> 0
B91: ='FATURAMENTO MENSAL'!B92 -> SABONTE MOUSSE ANTI-OX COSMOBEAUTY | D91: ='FATURAMENTO MENSAL'!C92 -> 1 | F91: =PRECIFICAÇÃO!F82 -> 52 | H91: =IF(F91="","",D91*F91) -> 52
B92: ='FATURAMENTO MENSAL'!B93 -> ESPUMA DE LIMPEZA VULCANICE | D92: ='FATURAMENTO MENSAL'!C93 -> 2 | F92: =PRECIFICAÇÃO!F83 -> 52 | H92: =IF(F92="","",D92*F92) -> 104
B93: ='FATURAMENTO MENSAL'!B94 -> LOÇÃO TÔNICA BIO-C BIOAGE | D93: ='FATURAMENTO MENSAL'!C94 -> 0 | F93: =PRECIFICAÇÃO!F84 -> 0 | H93: =IF(F93="","",D93*F93) -> 0
B94: ='FATURAMENTO MENSAL'!B95 -> REST-DERM COSMOBEAUTY | D94: ='FATURAMENTO MENSAL'!C95 -> 1 | F94: =PRECIFICAÇÃO!F85 -> 91.74 | H94: =IF(F94="","",D94*F94) -> 91.74
B95: ='FATURAMENTO MENSAL'!B96 -> DMAE CREME ANTI-RUGAS BOTHANICA | D95: ='FATURAMENTO MENSAL'!C96 -> 0 | F95: =PRECIFICAÇÃO!F86 -> 80 | H95: =IF(F95="","",D95*F95) -> 0
B96: ='FATURAMENTO MENSAL'!B97 -> 0 | D96: ='FATURAMENTO MENSAL'!C97 -> 0 | F96: =PRECIFICAÇÃO!F87 -> 0 | H96: =IF(F96="","",D96*F96) -> 0
... B350: ='FATURAMENTO MENSAL'!B351 -> 0 | D350: ='FATURAMENTO MENSAL'!C351 -> 0 | F350: =PRECIFICAÇÃO!F341 -> 0 | H350: =IF(F350="","",D350*F350) -> 0
D351: ='FATURAMENTO MENSAL'!C352 -> 0 | H351: =IF(F351="","",D351*F351)

Sheet DESPESAS FIXAS
B2: DESPESAS FIXAS
B6: DESPESAS FIXAS OPERACIONAIS
B8: TOTAL | D8: =SUM(D11:D41) -> 11735.869
B10: Descrição | D10: Total Mensal
A11: 1 | B11: SALÁRIOS + ENCARGOS | D11: ='MÃO DE OBRA'!S24 -> 3024
A12: 2 | B12: RESERVA - SALÁRIOS | D12: ='MÃO DE OBRA'!S22 -> 721.56
A13: 3 | B13: PRÓ-LABORE | D13: 0
A14: 4 | B14: DEPRECIAÇÃO EQUIPAMENTOS | D14: =EQUIPAMENTOS!H8 -> 2956.0592
A15: 5 | B15: ALUGUEL | D15: 3000
A16: 6 | B16: ÁGUA | D16: 80
A17: 7 | B17: IPTU | D17: =2000/12 -> 166.66667
A18: 8 | B18: ENERGIA ELÉTRICA | D18: 300
A19: 9 | B19: TELEFONE / INTERNET | D19: 190
A20: 10 | B20: HONORÁRIOS CONTADOR | D20: 153
A21: 11 | B21: CREFITO | D21: =475/12 -> 39.583333
A22: 12 | B22: LICENÇA PALAZZO | D22: 480
A23: 14 | B23: MATERIAL LIMPEZA | D23: 250
A24: 15 | B24: MAT. ESCRITÓRIO | D24: 30
A25: 17 | B25: INVEST. CURSOS
A26: 18 | B26: TARIFAS BANCÁRIAS | D26: 75
A27: 19 | B27: SISTEMA | D27: 0
A28: 20 | B28: MARKETING | D28: 0
A29: 21 | B29: COLETA DE RESÍDUOS | D29: 45
A30: 22 | B30: COMBUSTIVEL | D30: 100
A31: 23 | B31: ALARME/SEGURANCA | D31: 125
A32: 24
A33: 25
A34: 26
A35: 27
A36: 28
A37: 29
A38: 30
A39: 31
A40: 32
A41: 33

Sheet MÃO DE OBRA
A1: SIMPLES NACIONAL
A2: ENCARGOS SALARIAIS - FUNCIONÁRIOS | E2: MÃO DE OBRA
A3: Encargos Trabalhistas: | B3: Alíquota(%)
A4: PROVISÃO FÉRIAS + 1/3 | B4: 0.1111
A5: PROVISÃO 13º SALÁRIO | B5: 0.0833
A6: PREVISÃO 13º / FÉRIAS | B6: 0.0233 | E6: CUSTOS COM FUNCIONÁRIOS
A7: Total Encargos Trabalhistas(%) | B7: =SUM(B3:B6) -> 0.2177
E8: FUNCIONÁRIAS | F8: Coluna1 | G8: SALÁRIO | H8: CLT? | I8: Encargos Sociais (%) | J8: Coluna22 | K8: Encargos Sociais (R$) | L8: Coluna23 | M8: Salários c/ Encargos | N8: Coluna5 | O8: GRATIFICAÇÃO | P8: Coluna6 | Q8: VR + VT | R8: Coluna24 | S8: TOTAL
A9: Encargos Sociais: | B9: Alíquota(%) | D9: 1 | E9: SECRETARIA | G9: 1000 | I9: =$B$18 -> 0.3377 | K9: =G9*I9 -> 337.7 | M9: =G9+K9 -> 1337.7 | O9: 0 | Q9: 0 | S9: =M9+O9+Q9 -> 1337.7
A10: INSS | B10: 0 | D10: 2 | E10: ESTETICISTA | G10: 1800 | I10: =$B$18 -> 0.3377 | K10: =G10*I10 -> 607.86 | M10: =G10+K10 -> 2407.86 | O10: 0 | Q10: 0 | S10: =M10+O10+Q10 -> 2407.86
A11: SAT/RAT | B11: 0 | D11: 3 | G11: 0 | I11: =$B$18 -> 0.3377 | K11: =G11*I11 -> 0 | M11: =G11+K11 -> 0 | O11: 0 | Q11: 0 | S11: =M11+O11+Q11 -> 0
A12: SALÁRIO EDUCAÇÃO | B12: 0 | D12: 4 | G12: 0 | I12: =$B$18 -> 0.3377 | K12: =G12*I12 -> 0 | M12: =G12+K12 -> 0 | O12: 0 | Q12: 0 | S12: =M12+O12+Q12 -> 0
A13: INCRA/SEST/SEBRAE/SENAT | B13: 0 | D13: 5 | G13: 0 | I13: =$B$18 -> 0.3377 | K13: =G13*I13 -> 0 | M13: =G13+K13 -> 0 | O13: 0 | Q13: 0 | S13: =M13+O13+Q13 -> 0
A14: FGTS | B14: 0.08 | D14: 6 | G14: 0 | I14: =$B$18 -> 0.3377 | K14: =G14*I14 -> 0 | M14: =G14+K14 -> 0 | O14: 0 | Q14: 0 | S14: =M14+O14+Q14 -> 0
A15: FGTS/PROVISÃO DE MULTA RESCISÃO | B15: 0.04 | D15: 7 | G15: 0 | I15: =$B$18 -> 0.3377 | K15: =G15*I15 -> 0 | M15: =G15+K15 -> 0 | O15: 0 | Q15: 0 | S15: =M15+O15+Q15 -> 0
A16: Total Encargos Sociais(%) | B16: =SUM(B10:B15) -> 0.12 | D16: 8 | G16: 0 | I16: =$B$18 -> 0.3377 | K16: =G16*I16 -> 0 | M16: =G16+K16 -> 0 | O16: 0 | Q16: 0 | S16: =M16+O16+Q16 -> 0
D17: 9 | G17: 0 | I17: =$B$18 -> 0.3377 | K17: =G17*I17 -> 0 | M17: =G17+K17 -> 0 | O17: 0 | Q17: 0 | S17: =M17+O17+Q17 -> 0
A18: Total de Encargos(%) | B18: =B7+B16 -> 0.3377 | D18: 10 | G18: 0 | I18: =$B$18 -> 0.3377 | K18: =G18*I18 -> 0 | M18: =G18+K18 -> 0 | O18: 0 | Q18: 0 | S18: =M18+O18+Q18 -> 0
A20: RESERVA - MENSAL | B20: =B7+B16-B14 -> 0.2577 | E20: TOTAL | G20: =SUM(G9:G19) -> 2800 | K20: =SUM(K9:K19) -> 945.56 | M20: =SUM(M9:M18) -> 3745.56 | O20: =SUM(O9:O19) -> 0 | Q20: =SUM(Q9:Q19) -> 0 | S20: =SUM(S9:S19) -> 3745.56
Q22: RESERVA - PROVISIONAMENTO | S22: =$G$20*$B$20 -> 721.56
Q24: TOTAL FOLHA PAGAMENTO | S24: =S20-S22 -> 3024

Sheet CUSTO COMERCIAL
B2: PLANO FINANCEIRO
B6: CUSTOS DE OPERAÇÃO
B8: Descrição | D8: Percentual (%) | E8: X | F8: FATURAMENTO | G8: = | H8: Custo Total
B9: 1. Impostos
B10: Impostos Federais
B11: SIMPLES | D11: 0.06 | H11: =D11*F11 -> 0
B12: IRPJ | D12: 0 | H12: =D12*F12 -> 0
B13: PIS | D13: 0 | H13: =D13*F13 -> 0
B14: COFINS | D14: 0 | H14: =D14*F14 -> 0
B15: IPI | D15: 0 | H15: =D15*F15 -> 0
B16: CSLL | D16: 0 | H16: =D16*F16 -> 0
B17: Impostos Estaduais
B18: ICMS | D18: 0 | F18: ='FATURAMENTO MENSAL'!$E$5 -> 26312 | H18: =D18*F18 -> 0
B19: Impostos Municipais
B20: ISS | D20: 0 | F20: ='FATURAMENTO MENSAL'!$E$5 -> 26312 | H20: =D20*F20 -> 0
F22: Subtotal 1 | H22: =SUM(H11:H20) -> 0
B24: 2. Gastos com Vendas
B25: COMISSÃO - | D25: 0.6198 | H25: =D25*F25 -> 0
B26: COMISSÃO - | D26: 0.6198 | H26: =D26*F26 -> 0
B27: COMISSÃO - | D27: 0.6198 | H27: =D27*F27 -> 0
B28: COMISSÃO - | D28: 0.6198 | H28: =D28*F28 -> 0
B29: DÉBITO | D29: 0.0235 | F29: 5000 | H29: =D29*F29 -> 117.5
B30: CRÉDITO À VISTA | D30: 0.0349 | F30: 10000 | H30: =D30*F30 -> 349
B31: PARCELADO 2 - 6 | D31: 0.0489 | F31: 0 | H31: =D31*F31 -> 0
B32: PARCELADO 7 - 12 | D32: 0.0589 | F32: 0 | H32: =D32*F32 -> 0
B33: ANTECIPAÇÃO | D33: 0.024
F35: Subtotal 2 | H35: =SUM(H25:H32) -> 466.5
F37: TOTAL | H37: =H22+H35 -> 466.5

Sheet DEMONSTRATIVO
B2: PLANO FINANCEIRO
B7: DEMONSTRATIVO DE RESULTADOS
B9: QUADRO | D9: Descrição | F9: Valor (R$) | H9: Percentual (%)
B10: 1 | D10: 1. Receita Total com Vendas | F10: ='FATURAMENTO MENSAL'!E5 -> 26312 | H10: =H16+H20+H22 -> 1
D12: 2. Custos Variáveis Totais
B13: 2 | D13: (-) CMD ou CMV | F13: ='CUSTO VARIAVEL'!H5 -> 6022.6157 | H13: =IF(F10=0,0,F13/$F$10) -> 0.22889236
B14: 3 (subtotal 1) | D14: (-) Impostos Sobre Vendas | F14: ='CUSTO COMERCIAL'!H22 -> 0 | H14: =IF(F11=0,0,F14/$F$10) -> 0
B15: 4 (subtotal 2) | D15: (-) Gastos com Vendas | F15: ='CUSTO COMERCIAL'!H35 -> 466.5 | H15: =IF(F12=0,0,F15/$F$10) -> 0
D16: Subtotal de 2. | F16: =SUM(F13:F15) -> 6489.1157 | H16: =IF(F13=0,0,F16/$F$10) -> 0.24662191
D18: 3. Margem de Contribuição (1-2) | F18: =F10-F16 -> 19822.884 | H18: =IF(F10=0,0,F18/$F$10) -> 0.75337809
B20: 3 | D20: 4. (-) Custos Fixos Totais | F20: ='DESPESAS FIXAS'!D8 -> 11735.869 | H20: =IF(F10=0,0,F20/$F$10) -> 0.44602726
D22: 5. Resultado Operacional Líquido (Lucro ou Prejuízo) (3-4) | F22: =F18-F20 -> 8087.0151 | H22: =IF(F10=0,0,F22/$F$10) -> 0.30735083

Sheet PONTO DE EQUILIBRIO
B2: PLANO FINANCEIRO
B6: CÁLCULO DO PONTO DE EQUILÍBRIO
B9: CUSTO FIXO TOTAL | E9: = | F9: =DEMONSTRATIVO!F20 -> 11735.869 | G9: =F9 -> 11735.869
B10: MARGEM DE CONTRIBUIÇÃO | E10: = | F10: =DEMONSTRATIVO!H18 -> 0.75337809 | H10: % | M10: $$$
B11: LUCRO DESEJADO | E11: = | F11: =IF(H11="",M11,'FATURAMENTO MENSAL'!E5*'PONTO DE EQUILIBRIO'!H11) -> 9209.2 | H11: 0.35 | L11: OU
B14: PONTO DE EQUILÍBRIO | F14: CUSTO FIXO TOTAL | K14: =F9 -> 11735.869
E15: = | J15: = | O15: = | P15: =IF(F10=0,0,K14/K16) -> 15577.662
F16: MARGEM DE CONTRIBUIÇÃO | K16: =F10 -> 0.75337809
B18: PONTO DE EQUILÍBRIO ECONÔMICO | F18: CUSTO FIXO TOTAL + LUCRO | K18: =F9+F11 -> 20945.069
E19: = | J19: = | O19: = | P19: =IF(F10=0,0,K18/K20) -> 27801.537
F20: MARGEM DE CONTRIBUIÇÃO | K20: =F10 -> 0.75337809

Sheet PAINEL
C3: METRICAS OPERACIONAIS
B10: Notas:
B11: A estrutua de custos esta divida em trê partes para que o gestor possa acompanhar suas alterações.
B12: Nas despesas fixas já estão inclusos custos com mão de obra, depreciação de equipamentos mas não esta incluído o valor locação de equipamentos quando for o caso.
B13: O custo variavel sofrerá alterações de acordo com o faturamento da empresa pois reflete o uso de insumos utilizados nos protocolos e demais atendimentos.
B14: Nos custos de operação já esta a provisão de IR.
B38: Para garantir que protocolos e mercadorias vendidas contribuam para manutenção das demais despesas da empresa e obtenção de lucros é preciso análisar a margem de contribuição.
B39: A empresa esta com margem negativa em determinado serviço/produto quando a linha verde do gráfico cruzar a linha de 0%, ou seja, o produto não é rentavel.
B40: O valor do serviço/produto representado pela linha vermelha não pode estar dentro da coluna azul,
B84: No grafico de faturamento é possivel estimar o valor total de vendas de produtos e serviços em um mês.
B85: A ultima barra, em verde, é a soma do faturamento de serviços e produtos.
B161: Os pontos de equilibrio da empresa são representados abaixo:
